BEGIN:VCALENDAR
VERSION:2.0
PRODID:www.dresden-science-calendar.de
METHOD:PUBLISH
CALSCALE:GREGORIAN
X-MICROSOFT-CALSCALE:GREGORIAN
X-WR-TIMEZONE:Europe/Berlin
BEGIN:VTIMEZONE
TZID:Europe/Berlin
X-LIC-LOCATION:Europe/Berlin
BEGIN:DAYLIGHT
TZNAME:CEST
TZOFFSETFROM:+0100
TZOFFSETTO:+0200
DTSTART:19810329T030000
RRULE:FREQ=YEARLY;INTERVAL=1;BYMONTH=3;BYDAY=-1SU
END:DAYLIGHT
BEGIN:STANDARD
TZNAME:CET
TZOFFSETFROM:+0200
TZOFFSETTO:+0100
DTSTART:19961027T030000
RRULE:FREQ=YEARLY;INTERVAL=1;BYMONTH=10;BYDAY=-1SU
END:STANDARD
END:VTIMEZONE
BEGIN:VEVENT
UID:DSC-18304
DTSTART;TZID=Europe/Berlin:20211216T110000
SEQUENCE:1639121481
TRANSP:OPAQUE
DTEND;TZID=Europe/Berlin:20211216T120000
URL:https://dresden-science-calendar.org/calendar/de/detail/18304
LOCATION:Online\,   
SUMMARY:Overmeyer: „Effects of Reward and Punishment on Performance Monit
 oring”
CLASS:PUBLIC
DESCRIPTION:Speaker: Rebecca Overmeyer\, SFB940/ TP C06\nInstitute of Speak
 er: Fakultät Psychologie\nTopics:\n\n Location:\n  Name: Online ()\n  Str
 eet:  \n  City:  \n  Phone: \n  Fax: \nDescription: 
DTSTAMP:20260422T194759Z
CREATED:20211210T073121Z
LAST-MODIFIED:20211210T073121Z
END:VEVENT
END:VCALENDAR