BEGIN:VCALENDAR
VERSION:2.0
PRODID:www.dresden-science-calendar.de
METHOD:PUBLISH
CALSCALE:GREGORIAN
X-MICROSOFT-CALSCALE:GREGORIAN
X-WR-TIMEZONE:Europe/Berlin
BEGIN:VTIMEZONE
TZID:Europe/Berlin
X-LIC-LOCATION:Europe/Berlin
BEGIN:DAYLIGHT
TZNAME:CEST
TZOFFSETFROM:+0100
TZOFFSETTO:+0200
DTSTART:19810329T030000
RRULE:FREQ=YEARLY;INTERVAL=1;BYMONTH=3;BYDAY=-1SU
END:DAYLIGHT
BEGIN:STANDARD
TZNAME:CET
TZOFFSETFROM:+0200
TZOFFSETTO:+0100
DTSTART:19961027T030000
RRULE:FREQ=YEARLY;INTERVAL=1;BYMONTH=10;BYDAY=-1SU
END:STANDARD
END:VTIMEZONE
BEGIN:VEVENT
UID:DSC-18335
DTSTART;TZID=Europe/Berlin:20220127T110000
SEQUENCE:1642084440
TRANSP:OPAQUE
DTEND;TZID=Europe/Berlin:20220127T120000
URL:https://dresden-science-calendar.org/calendar/de/detail/18335
LOCATION:Online\,   
SUMMARY:Bartossek: Control Dilemmas and the Modulation of the Shielding-Shi
 fting Balance by Instructions and Reward
CLASS:PUBLIC
DESCRIPTION:Speaker: Thomas Goschke und Marie Bartossek\nInstitute of Speak
 er: TU Dresden\nTopics:\n\n Location:\n  Name: Online (https://tu-dresden.
 zoom.us/j/86554537169?pwd=V3JkL3hpLzhuMitXc1NWakhTSHU5UT09\nMeeting-ID: 86
 5 5453 7169\nKenncode: =&UkH10*\n)\n  Street:  \n  City:  \n  Phone: \n  F
 ax: \nDescription: 
DTSTAMP:20260422T131011Z
CREATED:20220113T143400Z
LAST-MODIFIED:20220113T143400Z
END:VEVENT
END:VCALENDAR