BEGIN:VCALENDAR
VERSION:2.0
PRODID:www.dresden-science-calendar.de
METHOD:PUBLISH
CALSCALE:GREGORIAN
X-MICROSOFT-CALSCALE:GREGORIAN
X-WR-TIMEZONE:Europe/Berlin
BEGIN:VTIMEZONE
TZID:Europe/Berlin
X-LIC-LOCATION:Europe/Berlin
BEGIN:DAYLIGHT
TZNAME:CEST
TZOFFSETFROM:+0100
TZOFFSETTO:+0200
DTSTART:19810329T030000
RRULE:FREQ=YEARLY;INTERVAL=1;BYMONTH=3;BYDAY=-1SU
END:DAYLIGHT
BEGIN:STANDARD
TZNAME:CET
TZOFFSETFROM:+0200
TZOFFSETTO:+0100
DTSTART:19961027T030000
RRULE:FREQ=YEARLY;INTERVAL=1;BYMONTH=10;BYDAY=-1SU
END:STANDARD
END:VTIMEZONE
BEGIN:VEVENT
UID:DSC-19187
DTSTART;TZID=Europe/Berlin:20221012T120000
SEQUENCE:1665481164
TRANSP:OPAQUE
DTEND;TZID=Europe/Berlin:20221012T130000
URL:https://dresden-science-calendar.org/calendar/de/detail/19187
LOCATION:Online\,   
SUMMARY:Mayr: 19th DDc Lunch Retreat: \"Bio-Inspired AI from Edge to Cloud:
  SpiNNaker 2 and Beyond\"
CLASS:PUBLIC
DESCRIPTION:Speaker: Prof. Christian Mayr\nInstitute of Speaker: TU Dresden
 \nTopics:\n\n Location:\n  Name: Online (Zoom)\n  Street:  \n  City:  \n  
 Phone: \n  Fax: \nDescription: 
DTSTAMP:20260419T152348Z
CREATED:20221011T093924Z
LAST-MODIFIED:20221011T093924Z
END:VEVENT
END:VCALENDAR