BEGIN:VCALENDAR
VERSION:2.0
PRODID:www.dresden-science-calendar.de
METHOD:PUBLISH
CALSCALE:GREGORIAN
X-MICROSOFT-CALSCALE:GREGORIAN
X-WR-TIMEZONE:Europe/Berlin
BEGIN:VTIMEZONE
TZID:Europe/Berlin
X-LIC-LOCATION:Europe/Berlin
BEGIN:DAYLIGHT
TZNAME:CEST
TZOFFSETFROM:+0100
TZOFFSETTO:+0200
DTSTART:19810329T030000
RRULE:FREQ=YEARLY;INTERVAL=1;BYMONTH=3;BYDAY=-1SU
END:DAYLIGHT
BEGIN:STANDARD
TZNAME:CET
TZOFFSETFROM:+0200
TZOFFSETTO:+0100
DTSTART:19961027T030000
RRULE:FREQ=YEARLY;INTERVAL=1;BYMONTH=10;BYDAY=-1SU
END:STANDARD
END:VTIMEZONE
BEGIN:VEVENT
UID:DSC-19727
DTSTART;VALUE=DATE:20230913
SEQUENCE:1694669739
TRANSP:OPAQUE
DTEND;VALUE=DATE:20230916
URL:https://dresden-science-calendar.org/calendar/de/detail/19727
LOCATION:TUD\,    
SUMMARY:GeNeMe - 2023
CLASS:PUBLIC
DESCRIPTION:Speaker: \nInstitute of Speaker: \nTopics:\nWillkommen\nTime:\n
 00:00-23:59\n\n Location:\n  Name: TUD ()\n  Street:   \n  City:  \n  Phon
 e: \n  Fax: \nDescription: <p>Die jährliche Konferenz GeNeMe „Gemeinsch
 aften in Neuen Medien“ diskutiert insbesondere Online Communities aus in
 tegraler Sicht auf mehrere Fachdisziplinen wie Informatik\, Medientechnolo
 gie\, Wirtschaftswissenschaft\, Bildungs- und Informationswissenschaft\, s
 owie Sozial- und Kommunikationswissenschaft. Als Forum für einen transdi
 sziplinären Dialog ermöglicht die GeNeMe den Erfahrungs- und Wissensaust
 ausch zwischen Teilnehmenden ver-schiedenster Fachrichtungen\, Organisatio
 nen und Institutionen mit dem Fokus sowohl auf Forschung als auch Praxis.<
 /p>  <p>Die GeNeMe 2023 öffnet sich insbesondere der Diskussion von Frage
 n rund um <strong>Inklusion und Teilhabe im Rahmen digitaler Formate und 
 Innovationen.</strong> Dabei sollen unter anderem folgende Fragen reflekt
 iert werden: Wie kann Inklusion durch Digitalisierung umgesetzt werden und
  welche Möglichkeiten zeichnen sich dafür ab? Wie kann Teilhabe an und 
 durch Digitalisierung gelingen? Wie steht es um Architekturen und professi
 onelle Skills im Kontext spezifischer Zielgruppen?</p>  <p>Die Konferenz w
 ird geleitet von einer Gruppe von Wissenschaftler: innen der Fakultäten E
 rziehungs- und Wirtschaftswissenschaften\, dem Center for Open Digital Inn
 ovation and Participation (CODIP) der TU Dresden sowie der Hochschule der 
 DGUV (HGU) und der HS Stralsund mit freundlicher Unterstützung des Silic
 on Saxony e.V.</p>  <p><strong>Die 26. GeNeMe findet hybrid mit primärem 
 Fokus auf Präsenz und optionaler Online-Teilnahme statt. </strong>Ergän
 zt durch attraktive Online-Formate\, insbesondere am Vorkonferenztag\, wol
 len wir mit der immersiven TriCAT-Software ein virtuelles Konferenzerlebni
 s schaffen\, Erfahrungen sammeln und uns austauschen über und mit virtue
 llen visionären Umgebungen\, welche die Teilhabe in unterschiedlichsten S
 ettings möglich machen (sollen).<br /> <br /> <strong>Wir laden Sie und e
 uch herzlich ein\, aktiv an der GeNeMe teilzunehmen. Mehr Informationen zu
 r Beitragseinreichung und den Tagungsgebühren finden sich auf der Veranst
 altungswebseite: www.geneme.de (https://www.geneme.de/)</strong></p>
X-MICROSOFT-CDO-ALLDAYEVENT:TRUE
DTSTAMP:20260420T093239Z
CREATED:20230323T063532Z
LAST-MODIFIED:20230914T053539Z
END:VEVENT
END:VCALENDAR