BEGIN:VCALENDAR
VERSION:2.0
PRODID:www.dresden-science-calendar.de
METHOD:PUBLISH
CALSCALE:GREGORIAN
X-MICROSOFT-CALSCALE:GREGORIAN
X-WR-TIMEZONE:Europe/Berlin
BEGIN:VTIMEZONE
TZID:Europe/Berlin
X-LIC-LOCATION:Europe/Berlin
BEGIN:DAYLIGHT
TZNAME:CEST
TZOFFSETFROM:+0100
TZOFFSETTO:+0200
DTSTART:19810329T030000
RRULE:FREQ=YEARLY;INTERVAL=1;BYMONTH=3;BYDAY=-1SU
END:DAYLIGHT
BEGIN:STANDARD
TZNAME:CET
TZOFFSETFROM:+0200
TZOFFSETTO:+0100
DTSTART:19961027T030000
RRULE:FREQ=YEARLY;INTERVAL=1;BYMONTH=10;BYDAY=-1SU
END:STANDARD
END:VTIMEZONE
BEGIN:VEVENT
UID:DSC-20075
DTSTART;VALUE=DATE:20230905
SEQUENCE:1692093318
TRANSP:OPAQUE
DTEND;VALUE=DATE:20230926
URL:https://dresden-science-calendar.org/calendar/de/detail/20075
LOCATION:Andere\,   
SUMMARY:Ausstellung \"Pioniere des Wissens. Die Nobelpreisträger*innen der
  Max-Planck-Gesellschaft\"
CLASS:PUBLIC
DESCRIPTION:Speaker: \nInstitute of Speaker: \nTopics:\n\nTime:\n10:00-19:0
 0\n\n Location:\n  Name: Andere (Veranstaltungsort: Foyer Kulturpalast Dre
 sden)\n  Street:  \n  City:  \n  Phone: \n  Fax: \nDescription: „Pionier
 e des Wissens“ präsentiert das Thema in einer Digitalen Story (http://n
 obel.mpg.de) und kompakt in einer Wanderausstellung im Science Pavillon. D
 ieser wird von 5.9.2023 bis 25.9.2023 anlässlich des 75. Jubiläums der M
 ax-Planck-Gesellschaft und des 30. Jubiläums der Max-Planck-Institute in 
 Sachsen\, im Kulturpalast Dresden zu sehen sein. Sie zeigt wie Forschung d
 en Alltag der Menschen veränderte und die moderne Welt prägte. Acht Them
 enpfade erzählen anschaulich\, wie die mit dem Nobelpreis gekürte Forsch
 ung den Alltag der Menschen veränderte und die moderne Welt prägte. Daru
 nter Otto Hahns Entdeckung der Kernspaltung und Karl Zieglers Patent zur b
 illigen Herstellung von Plastik aber auch die STED-Mikroskopie des Göttin
 ger Nobelpreisträgers Stefan Hell. 
X-MICROSOFT-CDO-ALLDAYEVENT:TRUE
DTSTAMP:20260422T124107Z
CREATED:20230815T095327Z
LAST-MODIFIED:20230815T095518Z
END:VEVENT
END:VCALENDAR