BEGIN:VCALENDAR
VERSION:2.0
PRODID:www.dresden-science-calendar.de
METHOD:PUBLISH
CALSCALE:GREGORIAN
X-MICROSOFT-CALSCALE:GREGORIAN
X-WR-TIMEZONE:Europe/Berlin
BEGIN:VTIMEZONE
TZID:Europe/Berlin
X-LIC-LOCATION:Europe/Berlin
BEGIN:DAYLIGHT
TZNAME:CEST
TZOFFSETFROM:+0100
TZOFFSETTO:+0200
DTSTART:19810329T030000
RRULE:FREQ=YEARLY;INTERVAL=1;BYMONTH=3;BYDAY=-1SU
END:DAYLIGHT
BEGIN:STANDARD
TZNAME:CET
TZOFFSETFROM:+0200
TZOFFSETTO:+0100
DTSTART:19961027T030000
RRULE:FREQ=YEARLY;INTERVAL=1;BYMONTH=10;BYDAY=-1SU
END:STANDARD
END:VTIMEZONE
BEGIN:VEVENT
UID:DSC-20106
DTSTART;TZID=Europe/Berlin:20230905T183000
SEQUENCE:1693297820
TRANSP:OPAQUE
DTEND;TZID=Europe/Berlin:20230905T200000
URL:https://dresden-science-calendar.org/calendar/de/detail/20106
LOCATION:COSMO\, Schloßstr. 201067 Dresden
SUMMARY:Verkehrswende Dresden – Verkehrsflächen neu denken
CLASS:PUBLIC
DESCRIPTION:Speaker: \nInstitute of Speaker: \nTopics:\nUmwelt\n Location:\
 n  Name: COSMO ()\n  Street: Schloßstr. 2\n  City: 01067 Dresden\n  Phone
 : \n  Fax: \nDescription: Unsere Städte sind seit Jahrhunderten gewachsen
  und haben sich verändert. Dabei stellt sich die Frage\, was das für die
  Entwicklung unserer Städte und die Gestaltung des öffentlichen Raumes b
 edeutet. Wie kann das Leitbild der autozentrierten Stadt überwunden und e
 ine nachhaltige Mobilitätskultur und -infrastruktur etabliert werden? In 
 einer Podiumsdiskussion wollen wir Flächenpotenziale und die Veränderbar
 keit von Verkehrsflächen sichtbar machen. Hemmnisse einer Verkehrswende w
 erden erörtert und zugleich Potenziale für neue Ideen und Kreativität a
 ufgezeigt. Unsere Gäste sind u. a. Alexander Czeh vom Institut für Verke
 hrsforschung des Deutschen Zentrums für Luft- und Raumfahrt\, Frank Fiedl
 er vom Stadtplanungsamt Dresden\, Jutta Wieding vom BUND\, Gunter Thiele\,
  Mitbegründer der IG Automobil in Dresden und Rico Wittwer\, Professor an
  der Technischen Universität Dresden.    
DTSTAMP:20260419T215225Z
CREATED:20230829T082739Z
LAST-MODIFIED:20230829T083020Z
END:VEVENT
END:VCALENDAR