BEGIN:VCALENDAR
VERSION:2.0
PRODID:www.dresden-science-calendar.de
METHOD:PUBLISH
CALSCALE:GREGORIAN
X-MICROSOFT-CALSCALE:GREGORIAN
X-WR-TIMEZONE:Europe/Berlin
BEGIN:VTIMEZONE
TZID:Europe/Berlin
X-LIC-LOCATION:Europe/Berlin
BEGIN:DAYLIGHT
TZNAME:CEST
TZOFFSETFROM:+0100
TZOFFSETTO:+0200
DTSTART:19810329T030000
RRULE:FREQ=YEARLY;INTERVAL=1;BYMONTH=3;BYDAY=-1SU
END:DAYLIGHT
BEGIN:STANDARD
TZNAME:CET
TZOFFSETFROM:+0200
TZOFFSETTO:+0100
DTSTART:19961027T030000
RRULE:FREQ=YEARLY;INTERVAL=1;BYMONTH=10;BYDAY=-1SU
END:STANDARD
END:VTIMEZONE
BEGIN:VEVENT
UID:DSC-20132
DTSTART;TZID=Europe/Berlin:20230928T080000
SEQUENCE:1695879573
TRANSP:OPAQUE
DTEND;TZID=Europe/Berlin:20230928T183000
URL:https://dresden-science-calendar.org/calendar/de/detail/20132
LOCATION:HZDR\, Bautzner Landstraße 40001328 Dresden
SUMMARY:various: Amplitude - HZDR Workshop
CLASS:PUBLIC
DESCRIPTION:Speaker: various\nInstitute of Speaker: \nTopics:\n\n Location:
 \n  Name: HZDR (620/018 - Kleiner Hörsaal Kernphysik)\n  Street: Bautzner
  Landstraße 400\n  City: 01328 Dresden\n  Phone: \n  Fax: \nDescription: 
 topics related to FWKT
DTSTAMP:20260425T004343Z
CREATED:20230909T053653Z
LAST-MODIFIED:20230928T053933Z
END:VEVENT
END:VCALENDAR