BEGIN:VCALENDAR
VERSION:2.0
PRODID:www.dresden-science-calendar.de
METHOD:PUBLISH
CALSCALE:GREGORIAN
X-MICROSOFT-CALSCALE:GREGORIAN
X-WR-TIMEZONE:Europe/Berlin
BEGIN:VTIMEZONE
TZID:Europe/Berlin
X-LIC-LOCATION:Europe/Berlin
BEGIN:DAYLIGHT
TZNAME:CEST
TZOFFSETFROM:+0100
TZOFFSETTO:+0200
DTSTART:19810329T030000
RRULE:FREQ=YEARLY;INTERVAL=1;BYMONTH=3;BYDAY=-1SU
END:DAYLIGHT
BEGIN:STANDARD
TZNAME:CET
TZOFFSETFROM:+0200
TZOFFSETTO:+0100
DTSTART:19961027T030000
RRULE:FREQ=YEARLY;INTERVAL=1;BYMONTH=10;BYDAY=-1SU
END:STANDARD
END:VTIMEZONE
BEGIN:VEVENT
UID:DSC-20307
DTSTART;VALUE=DATE:20230925
SEQUENCE:1699274955
TRANSP:OPAQUE
DTEND;VALUE=DATE:20230930
URL:https://dresden-science-calendar.org/calendar/de/detail/20307
LOCATION:MPI-PKS\, Nöthnitzer Straße 3801187 Dresden
SUMMARY:Checkelsky: Quantum Materials in the Quantum Information Era
CLASS:PUBLIC
DESCRIPTION:Speaker: Joe Checkelsky\, Qimiao Si\, Roser Valenti\nInstitute 
 of Speaker: \nTopics:\n\nTime:\n09:00-17:00\n\n Location:\n  Name: MPI-PKS
  ()\n  Street: Nöthnitzer Straße 38\n  City: 01187 Dresden\n  Phone: + 4
 9 (0)351 871 0\n  Fax: \nDescription: 
X-MICROSOFT-CDO-ALLDAYEVENT:TRUE
DTSTAMP:20260423T015036Z
CREATED:20231106T124915Z
LAST-MODIFIED:20231106T124915Z
END:VEVENT
END:VCALENDAR