BEGIN:VCALENDAR
VERSION:2.0
PRODID:www.dresden-science-calendar.de
METHOD:PUBLISH
CALSCALE:GREGORIAN
X-MICROSOFT-CALSCALE:GREGORIAN
X-WR-TIMEZONE:Europe/Berlin
BEGIN:VTIMEZONE
TZID:Europe/Berlin
X-LIC-LOCATION:Europe/Berlin
BEGIN:DAYLIGHT
TZNAME:CEST
TZOFFSETFROM:+0100
TZOFFSETTO:+0200
DTSTART:19810329T030000
RRULE:FREQ=YEARLY;INTERVAL=1;BYMONTH=3;BYDAY=-1SU
END:DAYLIGHT
BEGIN:STANDARD
TZNAME:CET
TZOFFSETFROM:+0200
TZOFFSETTO:+0100
DTSTART:19961027T030000
RRULE:FREQ=YEARLY;INTERVAL=1;BYMONTH=10;BYDAY=-1SU
END:STANDARD
END:VTIMEZONE
BEGIN:VEVENT
UID:DSC-20486
DTSTART;TZID=Europe/Berlin:20240126T103000
SEQUENCE:1706337527
TRANSP:OPAQUE
DTEND;TZID=Europe/Berlin:20240126T120000
URL:https://dresden-science-calendar.org/calendar/de/detail/20486
LOCATION:MPI-CPfS\, Nöthnitzer Straße 4001187 Dresden
SUMMARY:Martinez: Triggering Emergent Phenomena by Engineering Complexity i
 n 2D Materials
CLASS:PUBLIC
DESCRIPTION:Speaker: Dr. Jose Martinez\nInstitute of Speaker: Quantum Nanos
 cience\, Peter Grünberg Institut\, Forschungszentrum Jülich\nTopics:\n\n
  Location:\n  Name: MPI-CPfS (Seminarraum 1-2)\n  Street: Nöthnitzer Stra
 ße 40\n  City: 01187 Dresden\n  Phone: \n  Fax: \nDescription: 
DTSTAMP:20260423T230552Z
CREATED:20240126T063507Z
LAST-MODIFIED:20240127T063847Z
END:VEVENT
END:VCALENDAR