BEGIN:VCALENDAR
VERSION:2.0
PRODID:www.dresden-science-calendar.de
METHOD:PUBLISH
CALSCALE:GREGORIAN
X-MICROSOFT-CALSCALE:GREGORIAN
X-WR-TIMEZONE:Europe/Berlin
BEGIN:VTIMEZONE
TZID:Europe/Berlin
X-LIC-LOCATION:Europe/Berlin
BEGIN:DAYLIGHT
TZNAME:CEST
TZOFFSETFROM:+0100
TZOFFSETTO:+0200
DTSTART:19810329T030000
RRULE:FREQ=YEARLY;INTERVAL=1;BYMONTH=3;BYDAY=-1SU
END:DAYLIGHT
BEGIN:STANDARD
TZNAME:CET
TZOFFSETFROM:+0200
TZOFFSETTO:+0100
DTSTART:19961027T030000
RRULE:FREQ=YEARLY;INTERVAL=1;BYMONTH=10;BYDAY=-1SU
END:STANDARD
END:VTIMEZONE
BEGIN:VEVENT
UID:DSC-20553
DTSTART;TZID=Europe/Berlin:20240418T130000
SEQUENCE:1713418792
TRANSP:OPAQUE
DTEND;TZID=Europe/Berlin:20240418T133000
URL:https://dresden-science-calendar.org/calendar/de/detail/20553
LOCATION:HZDR\, Bautzner Landstraße 40001328 Dresden
SUMMARY:Bibliotheks-Team: Info zu Worldcat Discovery (neues Bibliothekssyst
 em)
CLASS:PUBLIC
DESCRIPTION:Speaker: Bibliotheks-Team\nInstitute of Speaker: \nTopics:\n\n 
 Location:\n  Name: HZDR (104/F101 - Flur)\n  Street: Bautzner Landstraße 
 400\n  City: 01328 Dresden\n  Phone: \n  Fax: \nDescription: Zu Beginn des
  Jahres wurde das neue Bibliotheksmanagement-System   WorldShare Managemen
 t Services (WMS) eingeführt.  Für unsere Nutzenden steht ein neues Disco
 very-System mit integrierten Ausleih-Konten zur Verfügung. Hier können S
 ie medienübergreifend recherchieren und haben sowohl Zugang zu den Büche
 rn unseres Bibliotheksbestands als auch zu lizenzierten eBooks\, eJournals
  und Datenbanken.   Für eine kurze Demo und vor allem Ihre Fragen stehen 
 wir bereit.
DTSTAMP:20260421T075327Z
CREATED:20240227T063555Z
LAST-MODIFIED:20240418T053952Z
END:VEVENT
END:VCALENDAR