BEGIN:VCALENDAR
VERSION:2.0
PRODID:www.dresden-science-calendar.de
METHOD:PUBLISH
CALSCALE:GREGORIAN
X-MICROSOFT-CALSCALE:GREGORIAN
X-WR-TIMEZONE:Europe/Berlin
BEGIN:VTIMEZONE
TZID:Europe/Berlin
X-LIC-LOCATION:Europe/Berlin
BEGIN:DAYLIGHT
TZNAME:CEST
TZOFFSETFROM:+0100
TZOFFSETTO:+0200
DTSTART:19810329T030000
RRULE:FREQ=YEARLY;INTERVAL=1;BYMONTH=3;BYDAY=-1SU
END:DAYLIGHT
BEGIN:STANDARD
TZNAME:CET
TZOFFSETFROM:+0200
TZOFFSETTO:+0100
DTSTART:19961027T030000
RRULE:FREQ=YEARLY;INTERVAL=1;BYMONTH=10;BYDAY=-1SU
END:STANDARD
END:VTIMEZONE
BEGIN:VEVENT
UID:DSC-20961
DTSTART;TZID=Europe/Berlin:20240528T145000
SEQUENCE:1716874808
TRANSP:OPAQUE
DTEND;TZID=Europe/Berlin:20240528T162000
URL:https://dresden-science-calendar.org/calendar/de/detail/20961
LOCATION:TUD\,    
SUMMARY:Physics Colloquium / Dr. Jens Brose: Chat mit Daten - In natürlich
 er Sprache vom Problem zum Ergebnisplot
CLASS:PUBLIC
DESCRIPTION:Speaker: \nInstitute of Speaker: \nTopics:\nWillkommen\n Locati
 on:\n  Name: TUD ()\n  Street:   \n  City:  \n  Phone: \n  Fax: \nDescript
 ion: <p>Event announcement as pdf-Download (https://tu-dresden.de/mn/phys
 ik/ressourcen/dateien/physikalisches-kolloquium/2024-05-28-Phys_Kolloq-Bro
 se-SoSe2024.pdf).</p>  <p><strong>Abstract</strong>: Nach einem kurzen (u
 nd unvollständigen) Überblick über den aktuellen Stand der Möglich
 keiten des Einsatzes von KI-Methoden und -Werkzeugen in Lehre und Forschun
 g in der Physik zeige ich an Beispielen\, wie es unter Nutzung von Large L
 anguage Models (LLM) mittlerweile möglich ist\, in natürlicher Sprache
  Datensätze zu analysieren und Ergebnisse\, insbesondere auch in grafisc
 her Form\, auszugeben.</p>  <p><strong>Short bio</strong>: 1985 - 1990: P
 hysikstudium (Diplom) an der TU Dresden / 1991 - 1994: Promotion Johannes-
  Gutenberg-Universität Mainz (Teilchenphysik) / 1994 - 2002: wiss. Mitar
 beiter (Postdoc) IKTP TU Dresden\, BaBar-Experiment / seit 2002: IT-Koordi
 nator der Fakultät Physik\, E-Learning Beauftragter der Fakultät / Leh
 re neben Experimentalphysik hauptsächlich Programmierkurse (Python).</p>
   <ul> </ul>
DTSTAMP:20260420T051625Z
CREATED:20240524T054007Z
LAST-MODIFIED:20240528T054008Z
END:VEVENT
END:VCALENDAR