BEGIN:VCALENDAR
VERSION:2.0
PRODID:www.dresden-science-calendar.de
METHOD:PUBLISH
CALSCALE:GREGORIAN
X-MICROSOFT-CALSCALE:GREGORIAN
X-WR-TIMEZONE:Europe/Berlin
BEGIN:VTIMEZONE
TZID:Europe/Berlin
X-LIC-LOCATION:Europe/Berlin
BEGIN:DAYLIGHT
TZNAME:CEST
TZOFFSETFROM:+0100
TZOFFSETTO:+0200
DTSTART:19810329T030000
RRULE:FREQ=YEARLY;INTERVAL=1;BYMONTH=3;BYDAY=-1SU
END:DAYLIGHT
BEGIN:STANDARD
TZNAME:CET
TZOFFSETFROM:+0200
TZOFFSETTO:+0100
DTSTART:19961027T030000
RRULE:FREQ=YEARLY;INTERVAL=1;BYMONTH=10;BYDAY=-1SU
END:STANDARD
END:VTIMEZONE
BEGIN:VEVENT
UID:DSC-21148
DTSTART;TZID=Europe/Berlin:20241016T140000
SEQUENCE:1719304489
TRANSP:OPAQUE
DTEND;TZID=Europe/Berlin:20241016T160000
URL:https://dresden-science-calendar.org/calendar/de/detail/21148
LOCATION:COSMO\, Schloßstr. 201067 Dresden
SUMMARY:Code & Play - Spielerisch programmieren lernen
CLASS:PUBLIC
DESCRIPTION:Speaker: \nInstitute of Speaker: \nTopics:\nElektro- u. Informa
 tionstechnik\n Location:\n  Name: COSMO ()\n  Street: Schloßstr. 2\n  Cit
 y: 01067 Dresden\n  Phone: \n  Fax: \nDescription: Hast Du Dich schon mal 
 gefragt\, wie Roboter eigentlich funktionieren?  Dahinter steckt eigentlic
 h keine Zauberei! Bei uns kannst du spielerisch mit dem Programmieren selb
 st experimentieren. Du entscheidest\, was der Roboterarm machen soll. Und 
 gleich geht es los: Der Roboter fängt an\, ein Bild zu zeichnen oder mit 
 Bauklötzen zu spielen. Wie das geht\, entdeckst du in einem Workshop im C
 OSMO. Komm einfach während der Öffnungszeit unserer Ausstellung „Dr. Z
 ukunft – Medizintechnik aus der Dresdner Wissenschaft“ vorbei und prob
 iere es aus!    Mitmachangebot zwischen 14:00 und 16:00 Uhr    Ab 14 Jahre
 n   Der Eintritt ist frei.  Ohne Voranmeldung.      
DTSTAMP:20260422T002608Z
CREATED:20240625T083449Z
LAST-MODIFIED:20240625T083449Z
END:VEVENT
END:VCALENDAR