BEGIN:VCALENDAR
VERSION:2.0
PRODID:www.dresden-science-calendar.de
METHOD:PUBLISH
CALSCALE:GREGORIAN
X-MICROSOFT-CALSCALE:GREGORIAN
X-WR-TIMEZONE:Europe/Berlin
BEGIN:VTIMEZONE
TZID:Europe/Berlin
X-LIC-LOCATION:Europe/Berlin
BEGIN:DAYLIGHT
TZNAME:CEST
TZOFFSETFROM:+0100
TZOFFSETTO:+0200
DTSTART:19810329T030000
RRULE:FREQ=YEARLY;INTERVAL=1;BYMONTH=3;BYDAY=-1SU
END:DAYLIGHT
BEGIN:STANDARD
TZNAME:CET
TZOFFSETFROM:+0200
TZOFFSETTO:+0100
DTSTART:19961027T030000
RRULE:FREQ=YEARLY;INTERVAL=1;BYMONTH=10;BYDAY=-1SU
END:STANDARD
END:VTIMEZONE
BEGIN:VEVENT
UID:DSC-21873
DTSTART;VALUE=DATE:20250623
SEQUENCE:1744023763
TRANSP:OPAQUE
DTEND;VALUE=DATE:20250628
URL:https://dresden-science-calendar.org/calendar/de/detail/21873
LOCATION:Andere\,   
SUMMARY:11th International Summer School on AI and Big Data
CLASS:PUBLIC
DESCRIPTION:Speaker: \nInstitute of Speaker: \nTopics:\nGesellschaft\, Phil
 os.\, Erzieh.\nTime:\n13:00-14:00\n\n Location:\n  Name: Andere (Penck Hot
 el Dresden\nOstra-Allee 33\n01067 Dresden\nGermany)\n  Street:  \n  City: 
  \n  Phone: \n  Fax: \nDescription: From June 23-27\, 2025\, ScaDS.AI Dres
 den/Leipzig invites you to the 11th International Summer School on AI and 
 Big Data in Dresden. Our annual summer school brings together graduate stu
 dents\, Ph.D. students\, researchers as well as practitioners in the areas
  of Artificial Intelligence\, Big Data\, and Machine Learning to discuss c
 utting-edge topics in Artificial Intelligence research. This year\, we wil
 l focus on language models and their application areas. Internationally re
 cognized speakers will offer inspiring insights into their work at our Sum
 mer School 2025\, while participants will get hands-on during a 2-day hack
 athon. We are excited to welcome both experienced professionals and intere
 sted beginners. 
X-MICROSOFT-CDO-ALLDAYEVENT:TRUE
DTSTAMP:20260422T002807Z
CREATED:20250407T110243Z
LAST-MODIFIED:20250407T110243Z
END:VEVENT
END:VCALENDAR