BEGIN:VCALENDAR
VERSION:2.0
PRODID:www.dresden-science-calendar.de
METHOD:PUBLISH
CALSCALE:GREGORIAN
X-MICROSOFT-CALSCALE:GREGORIAN
X-WR-TIMEZONE:Europe/Berlin
BEGIN:VTIMEZONE
TZID:Europe/Berlin
X-LIC-LOCATION:Europe/Berlin
BEGIN:DAYLIGHT
TZNAME:CEST
TZOFFSETFROM:+0100
TZOFFSETTO:+0200
DTSTART:19810329T030000
RRULE:FREQ=YEARLY;INTERVAL=1;BYMONTH=3;BYDAY=-1SU
END:DAYLIGHT
BEGIN:STANDARD
TZNAME:CET
TZOFFSETFROM:+0200
TZOFFSETTO:+0100
DTSTART:19961027T030000
RRULE:FREQ=YEARLY;INTERVAL=1;BYMONTH=10;BYDAY=-1SU
END:STANDARD
END:VTIMEZONE
BEGIN:VEVENT
UID:DSC-22053
DTSTART;TZID=Europe/Berlin:20250619T092000
SEQUENCE:1749120321
TRANSP:OPAQUE
DTEND;TZID=Europe/Berlin:20250619T105000
URL:https://dresden-science-calendar.org/calendar/de/detail/22053
LOCATION:Online\,   
SUMMARY:Dalal: Breaching the borders in the era of AI: Meet India as a scie
 ntific cooperation partner from a cultural perspective
CLASS:PUBLIC
DESCRIPTION:Speaker: Jyotika Dalal\nInstitute of Speaker: \nTopics:\nGesell
 schaft\, Philos.\, Erzieh.\n Location:\n  Name: Online (Zoom (Link will be
  announced after registration))\n  Street:  \n  City:  \n  Phone: \n  Fax:
  \nDescription: As Artificial Intelligence (AI) continues to redefine glob
 al paradigms\, India is emerging not only as a technological powerhouse bu
 t also as a culturally pluralistic complex deeply involved in both the opp
 ortunities and challenges of AI. Against a backdrop of social dynamism\, e
 nduring traditions\, and a vibrant democratic ethos\, India offers a uniqu
 e context for this rapid techno-transformation.    - How does India positi
 on itself within the international AI network?  - What role is it playing 
 in shaping a more inclusive digital future?    From Bollywood to Bangalore
  — this talk explores India’s multifaceted engagement with AI\, highli
 ghting the intersections of technological advancement with pressing societ
 al dimensions — such as gender equality\, cultural preservation and the 
 quest for digital justice.
DTSTAMP:20260425T043315Z
CREATED:20250605T104506Z
LAST-MODIFIED:20250605T104521Z
END:VEVENT
END:VCALENDAR