BEGIN:VCALENDAR
VERSION:2.0
PRODID:www.dresden-science-calendar.de
METHOD:PUBLISH
CALSCALE:GREGORIAN
X-MICROSOFT-CALSCALE:GREGORIAN
X-WR-TIMEZONE:Europe/Berlin
BEGIN:VTIMEZONE
TZID:Europe/Berlin
X-LIC-LOCATION:Europe/Berlin
BEGIN:DAYLIGHT
TZNAME:CEST
TZOFFSETFROM:+0100
TZOFFSETTO:+0200
DTSTART:19810329T030000
RRULE:FREQ=YEARLY;INTERVAL=1;BYMONTH=3;BYDAY=-1SU
END:DAYLIGHT
BEGIN:STANDARD
TZNAME:CET
TZOFFSETFROM:+0200
TZOFFSETTO:+0100
DTSTART:19961027T030000
RRULE:FREQ=YEARLY;INTERVAL=1;BYMONTH=10;BYDAY=-1SU
END:STANDARD
END:VTIMEZONE
BEGIN:VEVENT
UID:DSC-22491
DTSTART;TZID=Europe/Berlin:20260203T093000
SEQUENCE:1764238651
TRANSP:OPAQUE
DTEND;TZID=Europe/Berlin:20260203T123000
URL:https://dresden-science-calendar.org/calendar/de/detail/22491
LOCATION:Andere\,   
SUMMARY:5th MPS User Days – Microsystems for Physiological Cell Culture
CLASS:PUBLIC
DESCRIPTION:Speaker: \nInstitute of Speaker: Fraunhofer IWS\, Fraunhofer IB
 MT\, Fraunhofer ITEM\nTopics:\nBiologie\n Location:\n  Name: Andere (Onlin
 e Workshop)\n  Street:  \n  City:  \n  Phone: \n  Fax: \nDescription: Micr
 ophysiological systems (MPS) are a high-performance tool for research and 
 development in the field of tissue reconstruction\, drug and cytotoxicity 
 studies. Fraunhofer IWS has established a wide range of technical expertis
 e in design\, configuration\, operation\, monitoring and analysis of these
  systems and has developed its own technology platform for the setup of MP
 S. If you are interested in learning more about the functionalities and th
 e manifold applications of our technology\, please join our online worksho
 p. Benefit from our expertise and exchange ideas.    What Does the Worksho
 p Include?  The upcoming MPS User Days will focus on cryopreservation of c
 ells and tissue sections. The workshop will ad-dress key questions of curr
 ent research and practice: What is the state of the art in Cryopreservatio
 n? How can new methods like vitrification of tissues help to preserve cell
 s and tissue? How can we preserve the immune competence of tissues after f
 reezing?    Experts will provide insights into fundamentals and enabling t
 echnologies. They will present new approaches\, explain technical solution
 s\, and demonstrate practical applications. At the end of the workshop\, a
  joint discus-sion will invite all participants to reflect on the presente
 d topics\, raise questions\, and exchange perspectives on future direction
 s.    The MPS User Days thus create a compact format that informs research
 ers and practitioners about the state of the art in cryopreservation and s
 upports them in applying these methods in their own work.    The Workshop 
 Addresses the Following Users and Applications:  Biologists\, biotechnolog
 ists\, medical experts\, material scientists and passionate cell culture u
 sers who would like to inform themselves about the manifold possibilities 
 of MPS regarding configuration and fields of application  Users of current
  MPS platforms who are interested in experience reports and would like to 
 exchange ideas and information  Engineers and technical experts who are in
 terested in the design\, prototyping and scalable manufac-turing of Micros
 ystems and MPS  We are looking forward to your participation.
DTSTAMP:20260420T160317Z
CREATED:20251127T101731Z
LAST-MODIFIED:20251127T101731Z
END:VEVENT
END:VCALENDAR