BEGIN:VCALENDAR
VERSION:2.0
PRODID:www.dresden-science-calendar.de
METHOD:PUBLISH
CALSCALE:GREGORIAN
X-MICROSOFT-CALSCALE:GREGORIAN
X-WR-TIMEZONE:Europe/Berlin
BEGIN:VTIMEZONE
TZID:Europe/Berlin
X-LIC-LOCATION:Europe/Berlin
BEGIN:DAYLIGHT
TZNAME:CEST
TZOFFSETFROM:+0100
TZOFFSETTO:+0200
DTSTART:19810329T030000
RRULE:FREQ=YEARLY;INTERVAL=1;BYMONTH=3;BYDAY=-1SU
END:DAYLIGHT
BEGIN:STANDARD
TZNAME:CET
TZOFFSETFROM:+0200
TZOFFSETTO:+0100
DTSTART:19961027T030000
RRULE:FREQ=YEARLY;INTERVAL=1;BYMONTH=10;BYDAY=-1SU
END:STANDARD
END:VTIMEZONE
BEGIN:VEVENT
UID:DSC-22733
DTSTART;TZID=Europe/Berlin:20260304T110000
SEQUENCE:1772606393
TRANSP:OPAQUE
DTEND;TZID=Europe/Berlin:20260304T120000
URL:https://dresden-science-calendar.org/calendar/de/detail/22733
LOCATION:B CUBE\, Tatzberg 4101307 Dresden
SUMMARY:PoL PhD and Postdoc Seminar
CLASS:PUBLIC
DESCRIPTION:Speaker: \nInstitute of Speaker: \nTopics:\n\n Location:\n  Nam
 e: B CUBE ()\n  Street: Tatzberg 41\n  City: 01307 Dresden\n  Phone: +49 3
 51 463 43000\n  Fax: +49 351 463 40322\nDescription: <p>The PoL PhD and Po
 stdoc seminar is a meeting where PoL early career scientists present their
  research to their peers. All are welcome!&amp\;nbsp\;</p><p>The seminar c
 onsists of two short talks by PhD students or Postdocs\, each followed by 
 a discussion in which speaker and attendants can exchange ideas\, engage i
 n scientific discussions and network with their fellow young scientists.</
 p><p>-----</p><p>The talks:</p><ul><li><span><strong>Shivani Gunnan Ramkum
 ar </strong></span>(<a href=\"https://physics-of-life.tu-dresden.de/team/p
 ol-groups/mateus\" target=\"_blank\">Mateus Group</a>) – <span>Anisotrop
 ic shape reacquisition during pectoral fin regeneration</span></li></ul><p
 >Upon injury\, zebrafish larval pectoral fins can regenerate within 3.5 da
 ys\, re-acquiring morphologies strikingly similar to uninjured controls. T
 his project seeks to uncover the mechanisms underlying shape re-acquisitio
 n during the regeneration&amp\;nbsp\;of pectoral fins in zebrafish larvae.
  We&amp\;nbsp\;hypothesise&amp\;nbsp\;that the shape of the fin arises fro
 m a combination of factors\, including mechanical interactions within and 
 between the tissues of the fin and directional BMP diffusion.&amp\;nbsp\; 
 Our&amp\;nbsp\;research has identified two distinct shape changes in the p
 ectoral fin: 2D anisotropic growth- with the proximal-distal axis growing 
 more than the anterior-posterior axis and 3D anisotropic growth marked by 
 a transient increase in thickness. The latter is&amp\;nbsp\;interestingly 
 a regeneration specific phenotype. To investigate the possible contributio
 ns tothickness&amp\;nbsp\;increase during fin regeneration\, we are studyi
 ng changes in individual tissue shape\, cell shape\, cell number and inter
 cellular spaces using 3D volumetric tissue and cell segmentation pipelines
 . From this we identified that&amp\;nbsp\;the cartilage plays a key role i
 n the overall thickness increase of the fin. Additionally\, the regenerati
 ng cartilage cells are larger and have different shapes when compared to d
 evelopmental age-matched controls. This could point towards either a chang
 e in&amp\;nbsp\;tissue mechanics or in the dynamics of BMP signaling gradi
 ents upon amputation.</p><p>&amp\;nbsp\;</p><ul><li><strong>Franziska Deck
 er</strong> (<a href=\"https://physics-of-life.tu-dresden.de/team/pol-grou
 ps/brugues\" target=\"_blank\">Brugués Group)</a> – <span>Bringing SCAP
 E 2.0 to life: Building a microscope for future biological insights</span>
 </li></ul><p><strong>Abstract: </strong>In the&amp\;nbsp\;Brugués&amp\;nb
 sp\;lab\, we use advanced fluorescence microscopy techniques to address co
 mplex biological questions. Among these\, light-sheet microscopy stands ou
 t as a powerful tool for volumetric&amp\;nbsp\;imaging of living biologica
 l samples due to its ability to minimize phototoxicity and improve imaging
  speed and resolution. Recently\, I have constructed a SCAPE 2.0 microscop
 e in our lab—a specialized type of light-sheet microscope that operates 
 with an oblique&amp\;nbsp\;plane\, enabling rapid\, high-resolution imagin
 g of dynamic biological processes. In this presentation\, I will talk abou
 t some technical details and unique advantages of the SCAPE 2.0 setup\, in
 cluding its ability to capture volumetric data with minimal sample&amp\;nb
 sp\;disturbance. Additionally\, I will discuss the challenges associated w
 ith the large and complex datasets it generates.</p><p>------</p><p>For th
 ose who cannot join on site\, a <strong>Zoom</strong> option will be avail
 able:</p><p><a href=\"https://tu-dresden.zoom-x.de/j/63359118163?pwd=XNnQg
 KbbSzWItRfok1GxvDHeVaIS9E.1\" target=\"_blank\" title=\"https://tu-dresden
 .zoom-x.de/j/63359118163?pwd=XNnQgKbbSzWItRfok1GxvDHeVaIS9E.1\" rel=\"nore
 ferrer\"><u>https://tu-dresden.zoom-x.de/j/63359118163?pwd=XNnQgKbbSzWItRf
 ok1GxvDHeVaIS9E.1</u></a><br><strong>Meeting ID:</strong> 633 5911 8163<br
 ><strong>Passcode:</strong> @T206x=%</p>
DTSTAMP:20260425T144608Z
CREATED:20260304T063953Z
LAST-MODIFIED:20260304T063953Z
END:VEVENT
END:VCALENDAR