BEGIN:VCALENDAR
VERSION:2.0
PRODID:www.dresden-science-calendar.de
METHOD:PUBLISH
CALSCALE:GREGORIAN
X-MICROSOFT-CALSCALE:GREGORIAN
X-WR-TIMEZONE:Europe/Berlin
BEGIN:VTIMEZONE
TZID:Europe/Berlin
X-LIC-LOCATION:Europe/Berlin
BEGIN:DAYLIGHT
TZNAME:CEST
TZOFFSETFROM:+0100
TZOFFSETTO:+0200
DTSTART:19810329T030000
RRULE:FREQ=YEARLY;INTERVAL=1;BYMONTH=3;BYDAY=-1SU
END:DAYLIGHT
BEGIN:STANDARD
TZNAME:CET
TZOFFSETFROM:+0200
TZOFFSETTO:+0100
DTSTART:19961027T030000
RRULE:FREQ=YEARLY;INTERVAL=1;BYMONTH=10;BYDAY=-1SU
END:STANDARD
END:VTIMEZONE
BEGIN:VEVENT
UID:DSC-22736
DTSTART;TZID=Europe/Berlin:20260311T130000
SEQUENCE:1773297444
TRANSP:OPAQUE
DTEND;TZID=Europe/Berlin:20260311T140000
URL:https://dresden-science-calendar.org/calendar/de/detail/22736
LOCATION:IPF\, Hohe Straße 601069 Dresden
SUMMARY:Non-equilibrium Processes of Polymers near Interfaces
CLASS:PUBLIC
DESCRIPTION:Speaker: n.n.\nInstitute of Speaker: \nTopics:\nPhysik\, Chemie
 \, Materialien\n Location:\n  Name: IPF (Conference hall)\n  Street: Hohe 
 Straße 6\n  City: 01069 Dresden\n  Phone: \n  Fax: \nDescription: 
DTSTAMP:20260423T074215Z
CREATED:20260305T063930Z
LAST-MODIFIED:20260312T063724Z
END:VEVENT
END:VCALENDAR