BEGIN:VCALENDAR
VERSION:2.0
PRODID:www.dresden-science-calendar.de
METHOD:PUBLISH
CALSCALE:GREGORIAN
X-MICROSOFT-CALSCALE:GREGORIAN
X-WR-TIMEZONE:Europe/Berlin
BEGIN:VTIMEZONE
TZID:Europe/Berlin
X-LIC-LOCATION:Europe/Berlin
BEGIN:DAYLIGHT
TZNAME:CEST
TZOFFSETFROM:+0100
TZOFFSETTO:+0200
DTSTART:19810329T030000
RRULE:FREQ=YEARLY;INTERVAL=1;BYMONTH=3;BYDAY=-1SU
END:DAYLIGHT
BEGIN:STANDARD
TZNAME:CET
TZOFFSETFROM:+0200
TZOFFSETTO:+0100
DTSTART:19961027T030000
RRULE:FREQ=YEARLY;INTERVAL=1;BYMONTH=10;BYDAY=-1SU
END:STANDARD
END:VTIMEZONE
BEGIN:VEVENT
UID:DSC-22737
DTSTART;TZID=Europe/Berlin:20260305T193000
SEQUENCE:1772692774
TRANSP:OPAQUE
DTEND;TZID=Europe/Berlin:20260305T235900
URL:https://dresden-science-calendar.org/calendar/de/detail/22737
LOCATION:Andere\,   
SUMMARY:HAGEN: \"Machen Medien zu einseitig Meinung?\" – Podiumsdiskussio
 n in der Frauenkirche
CLASS:PUBLIC
DESCRIPTION:Speaker: PROF. DR. LUTZ M. HAGEN\, INE DIPPMANN\, JULIA RUHS\, 
 OLIVER REINHARD\nInstitute of Speaker: Institut für Kommunikationswissens
 chaft\, TUD\nTopics:\nGesellschaft\, Philos.\, Erzieh.\n Location:\n  Name
 : Andere (Unterkirche (Zugang über Eingang F))\n  Street:  \n  City:  \n 
  Phone: \n  Fax: \nDescription: <p>Wie gefährdet ist die Meinungsfreiheit
 ? Die Debatte darüber ist untrennbar mit dem Journalismus verbunden.<br> 
 <br> Seit Beginn der so genannten »Flüchtlingskrise« vor über zehn Jah
 ren\, seit Pegida und dem Aufstieg der AfD hat die Medienkritik eine zuvor
  ungekannte Heftigkeit erreicht. »Die Medien«\, so ihr Tenor\, würden d
 ie Vielfalt der Haltungen und Meinungen in der Bevölkerung nicht mehr wid
 erspiegeln. Stattdessen dominierten linksliberale Perspektiven die Bericht
 erstattung und Kommentare. Gleichzeitig boomen so genannte Alternative Med
 ien. Sie fühlen sich traditionellen Grundsätzen der Presse mehrheitlich 
 nicht mehr verpflichtet. Aber dafür\, so sagen ihre Anhänger\, sprächen
  sie Themen an\, die im klassischen Journalismus keinen Platz mehr fänden
  oder unterdrückt würden.<br> <br> Tatsächlich hat der Verlust von öko
 nomischer Sicherheit und Prestige in der Presselandschaft zu teils fatalen
  neuen Abhängigkeiten geführt. Außerdem\, so eine verbreitete These\, h
 ätten moralisierende und pädagogische Attitüden mancher Medienmacher:in
 nen eine trotzige »Reaktanz« bei Teilen des Publikums erzielt statt zur 
 Aufklärung beizutragen. Im Zentrum des Gegenwinds stehen die öffentlich-
 rechtlichen Sender ARD und ZDF. Kritik kommt auch aus deren eigenen Reihen
 . Besonders bekannt geworden ist die konservative ARD-Journalistin Julia R
 uhs. Ihr Buch mit dem programmatischen Titel »Links-grüne Meinungsmacht:
  Die Spaltung unseres Landes« wurde zum Bestseller.<br> <br> Was ist dran
  an dieser Medienkritik? Darum wird es auch in der Frauenkirche gehen bei 
 einer Podiumsdiskussion mit Julia Ruhs\, die wir mit der Sächsischen Zeit
 ung und Sächsische.de sowie der Leipziger Volkszeitung veranstalten und f
 ür den Podcast »Debatte in Sachsen« aufzeichnen.</p>
DTSTAMP:20260421T165938Z
CREATED:20260305T063934Z
LAST-MODIFIED:20260305T063934Z
END:VEVENT
END:VCALENDAR