BEGIN:VCALENDAR
VERSION:2.0
PRODID:www.dresden-science-calendar.de
METHOD:PUBLISH
CALSCALE:GREGORIAN
X-MICROSOFT-CALSCALE:GREGORIAN
X-WR-TIMEZONE:Europe/Berlin
BEGIN:VTIMEZONE
TZID:Europe/Berlin
X-LIC-LOCATION:Europe/Berlin
BEGIN:DAYLIGHT
TZNAME:CEST
TZOFFSETFROM:+0100
TZOFFSETTO:+0200
DTSTART:19810329T030000
RRULE:FREQ=YEARLY;INTERVAL=1;BYMONTH=3;BYDAY=-1SU
END:DAYLIGHT
BEGIN:STANDARD
TZNAME:CET
TZOFFSETFROM:+0200
TZOFFSETTO:+0100
DTSTART:19961027T030000
RRULE:FREQ=YEARLY;INTERVAL=1;BYMONTH=10;BYDAY=-1SU
END:STANDARD
END:VTIMEZONE
BEGIN:VEVENT
UID:DSC-22804
DTSTART;TZID=Europe/Berlin:20261002T090000
SEQUENCE:1776749940
TRANSP:OPAQUE
DTEND;TZID=Europe/Berlin:20261002T143000
URL:https://dresden-science-calendar.org/calendar/de/detail/22804
LOCATION:HZDR\, Bautzner Landstraße 40001328 Dresden
SUMMARY:DECHEMA \"Mixing Meets Reality\"
CLASS:PUBLIC
DESCRIPTION:Speaker: //\nInstitute of Speaker: \nTopics:\n\n Location:\n  N
 ame: HZDR (114/202 - Seminarraum)\n  Street: Bautzner Landstraße 400\n  C
 ity: 01328 Dresden\n  Phone: \n  Fax: \nDescription: //
DTSTAMP:20260421T112839Z
CREATED:20260403T053846Z
LAST-MODIFIED:20260421T053900Z
END:VEVENT
END:VCALENDAR