BEGIN:VCALENDAR
VERSION:2.0
PRODID:www.dresden-science-calendar.de
METHOD:PUBLISH
CALSCALE:GREGORIAN
X-MICROSOFT-CALSCALE:GREGORIAN
X-WR-TIMEZONE:Europe/Berlin
BEGIN:VTIMEZONE
TZID:Europe/Berlin
X-LIC-LOCATION:Europe/Berlin
BEGIN:DAYLIGHT
TZNAME:CEST
TZOFFSETFROM:+0100
TZOFFSETTO:+0200
DTSTART:19810329T030000
RRULE:FREQ=YEARLY;INTERVAL=1;BYMONTH=3;BYDAY=-1SU
END:DAYLIGHT
BEGIN:STANDARD
TZNAME:CET
TZOFFSETFROM:+0200
TZOFFSETTO:+0100
DTSTART:19961027T030000
RRULE:FREQ=YEARLY;INTERVAL=1;BYMONTH=10;BYDAY=-1SU
END:STANDARD
END:VTIMEZONE
BEGIN:VEVENT
UID:DSC-17304
DTSTART;VALUE=DATE:20211207
SEQUENCE:1619177531
TRANSP:OPAQUE
DTEND;VALUE=DATE:20211210
URL:https://dresden-science-calendar.org/calendar/en/detail/17304
LOCATION:Maritim Hotel & Internationales Congress Center Dresden\, Ostra-Uf
 er 201067 Dresden
SUMMARY:International Laser Symposium 2021
CLASS:PUBLIC
DESCRIPTION:Speaker: \nInstitute of Speaker: \nTopics:\n\nTime:\n2:00 PM-5:
 00 PM\n\n Location:\n  Name: Maritim Hotel & Internationales Congress Cent
 er Dresden ()\n  Street: Ostra-Ufer 2\n  City: 01067 Dresden\n  Phone: 035
 1 - 21 60\n  Fax: 0351 - 2 16 10 00\nDescription: NEW COLORS – NEW CHANC
 ES    New high power laser sources\, emerging wavelengths in the green and
  blue light spectrum\, IR lasers with flexible intensity distribution and 
 new pulsed laser systems with high power and energy density – these intr
 iguing options might open up undiscovered perspectives in laser material p
 rocessing.    Innovative laser sources  - extend the range of materials\, 
  - open the doors to new applications\,  - allow faster processing\, and  
 - raise quality to an unrivaled level    Organized by Fraunhofer IWS Dresd
 en\, the “Laser Symposium 2021” will focus on latest laser development
 s and their suitability for industrial applications. With some colors avai
 lable in a reasonable power range only recently\, we invite you to explore
  answers to this key question: Do new colors extend the processing range o
 f well-known laser technologies or will they mark the beginning of a new e
 ra in laser materials processing?    For the eleventh time in a row\, Lase
 r Symposium 2021 brings together world's leading laser experts\, end-users
  and newcomers from both industry and academia. It offers an ideal platfor
 m for scientific and technical exchange on various aspects of laser materi
 als processing.    Don't miss the chance to meet internationally renowned 
 speakers and industry exhibitors to exchange new ideas\, discuss novel res
 earch results and discover latest technical solutions. We invite you to en
 joy the hospitality of the wonderful city of Dresden\, be inspired by lase
 r technology and join us together with about 500 participants at Laser Sym
 posium 2021.  
X-MICROSOFT-CDO-ALLDAYEVENT:TRUE
DTSTAMP:20260423T072144Z
CREATED:20200625T134211Z
LAST-MODIFIED:20210423T113211Z
END:VEVENT
END:VCALENDAR