BEGIN:VCALENDAR
VERSION:2.0
PRODID:www.dresden-science-calendar.de
METHOD:PUBLISH
CALSCALE:GREGORIAN
X-MICROSOFT-CALSCALE:GREGORIAN
X-WR-TIMEZONE:Europe/Berlin
BEGIN:VTIMEZONE
TZID:Europe/Berlin
X-LIC-LOCATION:Europe/Berlin
BEGIN:DAYLIGHT
TZNAME:CEST
TZOFFSETFROM:+0100
TZOFFSETTO:+0200
DTSTART:19810329T030000
RRULE:FREQ=YEARLY;INTERVAL=1;BYMONTH=3;BYDAY=-1SU
END:DAYLIGHT
BEGIN:STANDARD
TZNAME:CET
TZOFFSETFROM:+0200
TZOFFSETTO:+0100
DTSTART:19961027T030000
RRULE:FREQ=YEARLY;INTERVAL=1;BYMONTH=10;BYDAY=-1SU
END:STANDARD
END:VTIMEZONE
BEGIN:VEVENT
UID:DSC-18361
DTSTART;TZID=Europe/Berlin:20220201T130000
SEQUENCE:1648046118
TRANSP:OPAQUE
DTEND;TZID=Europe/Berlin:20220201T140000
URL:https://dresden-science-calendar.org/calendar/en/detail/18361
LOCATION:Online\,   
SUMMARY:Leehr: E. Leehr: Translational Research of Psychological Processes 
 and Targeted Clinical Interventions
CLASS:PUBLIC
DESCRIPTION:Speaker: Dr. Elisabeth Leehr\nInstitute of Speaker: Institut f
 ür Translationale Psychiatrie\, Universitätsklinikum Münster\nTopics:\n
 Psychologie\, Willkommen\n Location:\n  Name: Online ()\n  Street:  \n  Ci
 ty:  \n  Phone: \n  Fax: \nDescription: <p><strong>Translational Research 
 of Psychological Processes and Targeted Clinical Interventions</strong></p
 >    <p>Elisabeth Leehr is fascinated by neurobiological basic research of
  psychological processes\, their modulation capability and the translation
  of these basic insights in psychological interventions.</p>    <p>Her wor
 k is focused on processes\, like emotion regulation and inhibitory control
 \, which are thought to be altered in mental disorders. Her aim is to inve
 stigate the neuro-bio-behavioral basics of these processes and to find pot
 ential starting points for the development and optimization of targeted ps
 ychological interventions.</p>    <p>She profits from a plethora of method
 s (eyetracking\, electromyography\, electroencephalography\, magnetic reso
 nance imaging\, experimental psychopathology\, diagnostic tools\, as well 
 as (epi-)genetics) in her research. Her clinical work with patients guides
  her scientific work and encourages her to orient her research to the chal
 lenges of clinical practice.</p>    <p><strong>Zoom Link (https://www.zoom
 .us/j/66866337748?pwd=cEVyZWRGVDhUaDZLZkpucTlkRzdhdz09)</strong></p>    <p
 >Meeting-ID: 668 6633 7748</p>    <p>Password: 269331</p>    <p>Speaker's 
 Website (https://www.medizin.uni-muenster.de/translap/team/elisabeth-johan
 na-leehr.html)</p>
DTSTAMP:20260424T145623Z
CREATED:20220127T231048Z
LAST-MODIFIED:20220323T143518Z
END:VEVENT
END:VCALENDAR