BEGIN:VCALENDAR
VERSION:2.0
PRODID:www.dresden-science-calendar.de
METHOD:PUBLISH
CALSCALE:GREGORIAN
X-MICROSOFT-CALSCALE:GREGORIAN
X-WR-TIMEZONE:Europe/Berlin
BEGIN:VTIMEZONE
TZID:Europe/Berlin
X-LIC-LOCATION:Europe/Berlin
BEGIN:DAYLIGHT
TZNAME:CEST
TZOFFSETFROM:+0100
TZOFFSETTO:+0200
DTSTART:19810329T030000
RRULE:FREQ=YEARLY;INTERVAL=1;BYMONTH=3;BYDAY=-1SU
END:DAYLIGHT
BEGIN:STANDARD
TZNAME:CET
TZOFFSETFROM:+0200
TZOFFSETTO:+0100
DTSTART:19961027T030000
RRULE:FREQ=YEARLY;INTERVAL=1;BYMONTH=10;BYDAY=-1SU
END:STANDARD
END:VTIMEZONE
BEGIN:VEVENT
UID:DSC-18574
DTSTART;TZID=Europe/Berlin:20220209T130000
SEQUENCE:1644447998
TRANSP:OPAQUE
DTEND;TZID=Europe/Berlin:20220209T140000
URL:https://dresden-science-calendar.org/calendar/en/detail/18574
LOCATION:Online\,   
SUMMARY:Pyrina: Immune regulation of adipocyte progenitors’ fate
CLASS:PUBLIC
DESCRIPTION:Speaker: Iryna Pyrina\nInstitute of Speaker: \nTopics:\n\n Loca
 tion:\n  Name: Online ()\n  Street:  \n  City:  \n  Phone: \n  Fax: \nDesc
 ription: <p>Iryna Pyrina\, Triantafyllos Chavakis Group\, will defend her 
 PhD thesis<br> <strong>Immune regulation of adipocyte progenitors’ fate<
 /strong></p> <p>on Wednesday\, 9 February 2022\, starting at 14:00 at the 
 School of Medicine.</p> <p>Guests may attend virtually through <a href=\"h
 ttps://tu-dresden.zoom.us/j/81937832205?pwd=U1Exa3kzZis0cXRDQW8zSDkzcmhvQT
 09\" target=\"_blank\" class=\"external-link-new-window\">TU Dresden Zoom 
 (tu-dresden.zoom.us)</a><br> Meeting ID: 819 3783 2205<br> Code: 26531387<
 /p> <p> </p>
DTSTAMP:20260422T151338Z
CREATED:20220203T230907Z
LAST-MODIFIED:20220209T230638Z
END:VEVENT
END:VCALENDAR