BEGIN:VCALENDAR
VERSION:2.0
PRODID:www.dresden-science-calendar.de
METHOD:PUBLISH
CALSCALE:GREGORIAN
X-MICROSOFT-CALSCALE:GREGORIAN
X-WR-TIMEZONE:Europe/Berlin
BEGIN:VTIMEZONE
TZID:Europe/Berlin
X-LIC-LOCATION:Europe/Berlin
BEGIN:DAYLIGHT
TZNAME:CEST
TZOFFSETFROM:+0100
TZOFFSETTO:+0200
DTSTART:19810329T030000
RRULE:FREQ=YEARLY;INTERVAL=1;BYMONTH=3;BYDAY=-1SU
END:DAYLIGHT
BEGIN:STANDARD
TZNAME:CET
TZOFFSETFROM:+0200
TZOFFSETTO:+0100
DTSTART:19961027T030000
RRULE:FREQ=YEARLY;INTERVAL=1;BYMONTH=10;BYDAY=-1SU
END:STANDARD
END:VTIMEZONE
BEGIN:VEVENT
UID:DSC-18575
DTSTART;TZID=Europe/Berlin:20220204T100000
SEQUENCE:1643965374
TRANSP:OPAQUE
DTEND;TZID=Europe/Berlin:20220204T110000
URL:https://dresden-science-calendar.org/calendar/en/detail/18575
LOCATION:Online\,   
SUMMARY:Kruschwitz: „Mechanisms of self-control: the role of anticipated 
 emotions and future thinking in reward regulation”
CLASS:PUBLIC
DESCRIPTION:Speaker: Johann Kruschwitz\, Eva Sinning\, TP A06\nInstitute of
  Speaker: SFB940\nTopics:\n\n Location:\n  Name: Online (https://tu-\ndres
 den.zoom.us/j/86554537169?pwd=V3JkL3hpLzhuMitXc1NWakhTSHU5UT09\nMeeting-ID
 : 865 5453 7169\nKenncode: =&UkH10*\n)\n  Street:  \n  City:  \n  Phone: \
 n  Fax: \nDescription: 
DTSTAMP:20260420T022144Z
CREATED:20220204T090237Z
LAST-MODIFIED:20220204T090254Z
END:VEVENT
END:VCALENDAR