BEGIN:VCALENDAR
VERSION:2.0
PRODID:www.dresden-science-calendar.de
METHOD:PUBLISH
CALSCALE:GREGORIAN
X-MICROSOFT-CALSCALE:GREGORIAN
X-WR-TIMEZONE:Europe/Berlin
BEGIN:VTIMEZONE
TZID:Europe/Berlin
X-LIC-LOCATION:Europe/Berlin
BEGIN:DAYLIGHT
TZNAME:CEST
TZOFFSETFROM:+0100
TZOFFSETTO:+0200
DTSTART:19810329T030000
RRULE:FREQ=YEARLY;INTERVAL=1;BYMONTH=3;BYDAY=-1SU
END:DAYLIGHT
BEGIN:STANDARD
TZNAME:CET
TZOFFSETFROM:+0200
TZOFFSETTO:+0100
DTSTART:19961027T030000
RRULE:FREQ=YEARLY;INTERVAL=1;BYMONTH=10;BYDAY=-1SU
END:STANDARD
END:VTIMEZONE
BEGIN:VEVENT
UID:DSC-18606
DTSTART;TZID=Europe/Berlin:20220610T090000
SEQUENCE:1654726235
TRANSP:OPAQUE
DTEND;TZID=Europe/Berlin:20220610T160000
URL:https://dresden-science-calendar.org/calendar/en/detail/18606
LOCATION:TUD\,    
SUMMARY:XCAT-NHR-Tutorial: HPC-Cluster Administration mit xCAT
CLASS:PUBLIC
DESCRIPTION:Speaker: \nInstitute of Speaker: \nTopics:\nInformatik\n Locati
 on:\n  Name: TUD ()\n  Street:   \n  City:  \n  Phone: \n  Fax: \nDescript
 ion: <p>Das Aufsetzen und Administrieren eines HPC-Clusters erfordert spez
 ielle Software. xCAT ist ein Open Source Tool\, welches HPC-Admins erlaubt
  Cluster jeglicher Art möglichst schnell und einfach zu konfigurieren. Zu
 sätzlich bietet xCAT weitere Tools\, die Administrator:innen bei der täg
 lichen Arbeit unterstützen. In diesem Kurs erlernen die Teilnehmer:innen 
 den Umgang mit xCAT und werden eine VM-basierte Testumgebung aufbauen um s
 ich mit den einzelnen Funktionen vertraut zu machen.</p>  <p>Agenda:</p>  
 <ul>  <li>xCAT Einführung (Versionen\, Features\, Architektur\, Datenbank
 \, Services)</li>  <li>Management Node Vorbereitung</li>  <li>Management N
 ode xCAT Konfiguration</li>  <li>Hierarchie mit Service Nodes</li>  <li>De
 finition der Objekte (Gruppen\, Compute Nodes\, Switches\, PDUs)</li>  <li
 >Hardware Discovery</li>  <li>Stateless/Stateful os images</li>  <li>Node 
 Installation</li>  <li>Nützliche Kommandos (mit Hands-On)</li>  <li>Nütz
 liche Tabellen (mit Hands-On)</li> </ul>  <p>Der Kurs ist kostenfrei. Kurs
 sprache: Deutsch.<br /> <strong>Bitte registrieren Sie sich bis 06.06.2022
  unter folgendem Link: </strong>Registrierung xCAT (https://event.zih.tu-d
 resden.de/nhr/xcat)<br /> <br /> Die Zugangsdaten erhalten Sie kurz vor de
 r Veranstaltung per E-Mail an Ihre registrierte E-Mail-Adresse. Für Frage
 n steht Anja Gerbes (anja.gerbes@tu-dresden.de (mailto:anja.gerbes@tu-dres
 den.de?subject=PIKA-Tutorial)) gern zur Verfügung.</p>
DTSTAMP:20260419T142344Z
CREATED:20220225T230803Z
LAST-MODIFIED:20220608T221035Z
END:VEVENT
END:VCALENDAR