BEGIN:VCALENDAR
VERSION:2.0
PRODID:www.dresden-science-calendar.de
METHOD:PUBLISH
CALSCALE:GREGORIAN
X-MICROSOFT-CALSCALE:GREGORIAN
X-WR-TIMEZONE:Europe/Berlin
BEGIN:VTIMEZONE
TZID:Europe/Berlin
X-LIC-LOCATION:Europe/Berlin
BEGIN:DAYLIGHT
TZNAME:CEST
TZOFFSETFROM:+0100
TZOFFSETTO:+0200
DTSTART:19810329T030000
RRULE:FREQ=YEARLY;INTERVAL=1;BYMONTH=3;BYDAY=-1SU
END:DAYLIGHT
BEGIN:STANDARD
TZNAME:CET
TZOFFSETFROM:+0200
TZOFFSETTO:+0100
DTSTART:19961027T030000
RRULE:FREQ=YEARLY;INTERVAL=1;BYMONTH=10;BYDAY=-1SU
END:STANDARD
END:VTIMEZONE
BEGIN:VEVENT
UID:DSC-18630
DTSTART;TZID=Europe/Berlin:20220706T170000
SEQUENCE:1656972492
TRANSP:OPAQUE
DTEND;TZID=Europe/Berlin:20220706T181500
URL:https://dresden-science-calendar.org/calendar/en/detail/18630
LOCATION:TUD Andreas-Schubert-Bau\, Zellescher Weg 1901069 Dresden
SUMMARY:Strobel: A. Strobel &amp\; P. Kanske: Open Science &amp\; Mental He
 alth
CLASS:PUBLIC
DESCRIPTION:Speaker: Prof. Alexander Strobel &amp\; Prof. Philipp Kanske\nI
 nstitute of Speaker: Faculty of Psychology\, TU Dresden\nTopics:\nPsycholo
 gie\n Location:\n  Name: TUD Andreas-Schubert-Bau (ASB 28)\n  Street: Zell
 escher Weg 19\n  City: 01069 Dresden\n  Phone: \n  Fax: \nDescription: <p>
 <strong>Abstract</strong></p>    <p>tba</p>    <p>Website of Alexander Str
 obel (https://tu-dresden.de/mn/psychologie/ifap/differentielle-psychologie
 /die-professur/Leitung?set_language=en)</p>    <p>Website of Philipp Kansk
 e (https://tu-dresden.de/mn/psychologie/ikpp/klipsy/die-professur/beschaef
 tigte/inhaber?set_language=en)</p>
DTSTAMP:20260421T020751Z
CREATED:20220311T230914Z
LAST-MODIFIED:20220704T220812Z
END:VEVENT
END:VCALENDAR