BEGIN:VCALENDAR
VERSION:2.0
PRODID:www.dresden-science-calendar.de
METHOD:PUBLISH
CALSCALE:GREGORIAN
X-MICROSOFT-CALSCALE:GREGORIAN
X-WR-TIMEZONE:Europe/Berlin
BEGIN:VTIMEZONE
TZID:Europe/Berlin
X-LIC-LOCATION:Europe/Berlin
BEGIN:DAYLIGHT
TZNAME:CEST
TZOFFSETFROM:+0100
TZOFFSETTO:+0200
DTSTART:19810329T030000
RRULE:FREQ=YEARLY;INTERVAL=1;BYMONTH=3;BYDAY=-1SU
END:DAYLIGHT
BEGIN:STANDARD
TZNAME:CET
TZOFFSETFROM:+0200
TZOFFSETTO:+0100
DTSTART:19961027T030000
RRULE:FREQ=YEARLY;INTERVAL=1;BYMONTH=10;BYDAY=-1SU
END:STANDARD
END:VTIMEZONE
BEGIN:VEVENT
UID:DSC-18783
DTSTART;TZID=Europe/Berlin:20220511T133000
SEQUENCE:1652133970
TRANSP:OPAQUE
DTEND;TZID=Europe/Berlin:20220511T173000
URL:https://dresden-science-calendar.org/calendar/en/detail/18783
LOCATION:TUD\,    
SUMMARY:Hildebrandt: Der Weg zu erfolgreichen Schutzrechtsanmeldungen - Tei
 l III - Nichttechnische Schutzrechte (Marken und Designs)
CLASS:PUBLIC
DESCRIPTION:Speaker: Grit Hildebrandt\nInstitute of Speaker: Technische Uni
 versität Dresden\, SG 5.3 / Patentinformationszentrum\nTopics:\nAusgründ
 ung/Transfer\, Chemie\, Elektro- u. Informationstechnik\, Informatik\, Mas
 chinenwesen\, Materialien\, Medizin\, Umwelt\, Verkehr\, Wirtschaft\n Loca
 tion:\n  Name: TUD ()\n  Street:   \n  City:  \n  Phone: \n  Fax: \nDescri
 ption: <p>Das Patentinformationszentrum (PIZ) der TU Dresden lädt<br /> z
 u den Vortrags- und Demonstrationsveranstaltungen im Rahmen der Reihe<br /
 > <strong>\"Der Weg zu erfolgreichen Schutzrechtsanmeldungen (https://tu-d
 resden.de/forschung-transfer/transfer/erfindungen-patente/patentinformatio
 nszentrum/ressourcen/dateien/Anmeldung_PIZ_Seminare_1_2_3_Fruehjahr_2022_O
 nline.pdf)“</strong><br /> <br /> mit den Teilen:</p>  <p>Teil I - Techn
 ische Schutzrechte (Patente und Gebrauchsmuster) (https://tu-dresden.de/fo
 rschung-transfer/transfer/erfindungen-patente/patentinformationszentrum/te
 rmine/der-weg-zu-erfolgreichen-schutzrechtsanmeldungen-teil-1-technische-s
 chutzrechte_20220413)<br /> Mi.\, 13.04.2024\, 14:00 - 17:00 Uhr<br /> Tei
 l II - Patentrecherchen (https://tu-dresden.de/forschung-transfer/transfer
 /erfindungen-patente/patentinformationszentrum/termine/der-weg-zu-erfolgre
 ichen-schutzrechtsanmeldungen-teil-2-patentrecherchen-20220504)<br /> Mi.\
 , 04.05.2022\, 14:00 - 17:00 Uhr<br /> <strong>Teil III - Nichttechnische 
 Schutzrechte (Marken und Designs)</strong><br /> <strong>Mi.\, 11.05.2022\
 , 13:30 - 17:30 Uhr</strong><br /> <br /> herzlich ein.<br /> <br /> Die V
 eranstaltungen werden in regelmäßigen Abständen wiederholt\, so dass je
 derzeit der noch fehlende Teil nachgeholt werden kann.<br /> <br /> Die Ve
 ranstaltung findet aktuell <strong>nicht als Präsenzveranstaltung\, sonde
 rn über ein Online-Tool</strong> statt. Voraussetzungen sind ein Internet
 anschluss\, sowie Lautsprecher und Mikrofon.<br /> <br /> Hier finden Sie 
 ein <strong>Anmelde-Formular (https://tu-dresden.de/forschung-transfer/tra
 nsfer/erfindungen-patente/patentinformationszentrum/ressourcen/dateien/Anm
 eldung_PIZ_Seminare_1_2_3_Fruehjahr_2022_Online.pdf)</strong> für die Tei
 le I bis III!<br /> <br /> <strong>Teil III - Nichttechnische Schutzrechte
  (Marken und Designs)</strong><br /> am <strong>Mittwoch</strong>\, 11. Ma
 i 2022\, 13:30 bis ca. 17:30 Uhr<br /> <br /> Der entsprechende <strong>Li
 nk zum Online-Tool wird rechtzeitig per E-Mail</strong> bekannt gegeben.<b
 r /> <br /> <strong>Referentin:</strong><br /> Grit Hildebrandt\, Patentin
 genieurin\, Rechercheurin<br /> Patentinformationszentrum der TU Dresden<b
 r /> <br /> <strong>Inhalt:</strong><br /> - Schutzvoraussetzungen für Ma
 rken-und Design-Anmeldungen<br /> - Marken- und Design-Anmeldungen im In- 
 und Ausland<br /> - Klassifikationssysteme (Nizza-\, Wiener\, Locarno-Klas
 sen)<br /> - Marken- und Design-Recherchen<br /> - freie und kommerzielle 
 Datenbanken</p>  <p>In den Veranstaltungsteilen können eigene Problemstel
 lungen und Themen eingebracht sowie ausgiebig Fragen gestellt werden. Eine
  kleine Pause ist vorgesehen\, die gern auch zu einem Erfahrungsaustausch 
 genutzt werden kann. Alle Teilnehmer erhalten umfangreiches Informationsma
 terial und eine Teilnahmebestätigung.<br /> <br /> Informationen erhalten
  Sie unter Tel: 0351 463-32432<br /> <br /> <strong>Anmeldung</strong><br 
 /> Um eine schriftliche Voranmeldung (https://tu-dresden.de/forschung-tran
 sfer/transfer/erfindungen-patente/patentinformationszentrum/ressourcen/dat
 eien/Anmeldung_PIZ_Seminare_1_2_3_Fruehjahr_2022_Online.pdf) im Patentinfo
 rmationszentrum wird gebeten\, da nur eine begrenzte Teilnehmerzahl mögli
 ch ist.<br /> <br /> E-Mail: piz(at)tu-dresden.de (mailto:piz@tu-dresden.d
 e)<br /> <br /> <strong>Kosten</strong><br /> Es wird ein Kostenbeitrag in
  Höhe von 23\,80 EUR (inkl. 19 % MwSt.) je Seminar-Teil erhoben.<br /> St
 udierende aller Hoch-/Fachschulen und Angehörige der TU Dresden sind von 
 dem Kostenbeitrag befreit.</p>  <p><strong>Rückfragen:</strong><br /> Gri
 t Hildebrandt<br /> Tel.: 0351 463-38667<br /> Fax: 0351 463-37136<br /> g
 rit.hildebrandt(at)tu-dresden.de (mailto:grit.hildebrandt@tu-dresden.de)</
 p>
DTSTAMP:20260421T065105Z
CREATED:20220405T112749Z
LAST-MODIFIED:20220509T220610Z
END:VEVENT
END:VCALENDAR