BEGIN:VCALENDAR
VERSION:2.0
PRODID:www.dresden-science-calendar.de
METHOD:PUBLISH
CALSCALE:GREGORIAN
X-MICROSOFT-CALSCALE:GREGORIAN
X-WR-TIMEZONE:Europe/Berlin
BEGIN:VTIMEZONE
TZID:Europe/Berlin
X-LIC-LOCATION:Europe/Berlin
BEGIN:DAYLIGHT
TZNAME:CEST
TZOFFSETFROM:+0100
TZOFFSETTO:+0200
DTSTART:19810329T030000
RRULE:FREQ=YEARLY;INTERVAL=1;BYMONTH=3;BYDAY=-1SU
END:DAYLIGHT
BEGIN:STANDARD
TZNAME:CET
TZOFFSETFROM:+0200
TZOFFSETTO:+0100
DTSTART:19961027T030000
RRULE:FREQ=YEARLY;INTERVAL=1;BYMONTH=10;BYDAY=-1SU
END:STANDARD
END:VTIMEZONE
BEGIN:VEVENT
UID:DSC-19751
DTSTART;TZID=Europe/Berlin:20230412T170000
SEQUENCE:1680091234
TRANSP:OPAQUE
DTEND;TZID=Europe/Berlin:20230412T190000
URL:https://dresden-science-calendar.org/calendar/en/detail/19751
LOCATION:COSMO\, Schloßstr. 201067 Dresden
SUMMARY:Nahrung der Zukunft
CLASS:PUBLIC
DESCRIPTION:Speaker: \nInstitute of Speaker: \nTopics:\n\n Location:\n  Nam
 e: COSMO ()\n  Street: Schloßstr. 2\n  City: 01067 Dresden\n  Phone: \n  
 Fax: \nDescription: Alge sei Dank! Seit über 3 Milliarden Jahren bevölke
 rt die Mikroalge Spirulina schon unseren Planeten und hat jeher einen maß
 geblichen Einfluss auf die Entwicklung unserer Sauerstoffatmosphäre\, ohn
 e die das Leben wie wir es kennen gar nicht möglich wäre.     Neben der 
 Verstoffwechselung von CO2 zu Sauerstoff hat es die Mikroalge auch als Leb
 ensmittel in sich!   Seit Jahrhunderten wird das winzige Wassergewächs in
  vielen Kulturen als Proteinquelle geschätzt. Auch die Weltgesundheitsorg
 anisation (WHO) hat das Potenzial der Spirulina erkannt und sie als „Hea
 lth Improving Agent“ (Mittel zur Gesundheitsförderung) eingestuft.     
 Mit bis zu 70 Prozent Protein und allen essentiellen Aminosäuren\, wertvo
 llen Antioxidantien\, Vitaminen (B-Vitamine\, Vitamin D und E) und Mineral
 stoffen (Kalium\, Magnesium\, Phosphor\, Calcium und Eisen) bereichert Spi
 rulina eine gesunde Ernährungsweise.  
DTSTAMP:20260422T095442Z
CREATED:20230329T120034Z
LAST-MODIFIED:20230329T120034Z
END:VEVENT
END:VCALENDAR