BEGIN:VCALENDAR
VERSION:2.0
PRODID:www.dresden-science-calendar.de
METHOD:PUBLISH
CALSCALE:GREGORIAN
X-MICROSOFT-CALSCALE:GREGORIAN
X-WR-TIMEZONE:Europe/Berlin
BEGIN:VTIMEZONE
TZID:Europe/Berlin
X-LIC-LOCATION:Europe/Berlin
BEGIN:DAYLIGHT
TZNAME:CEST
TZOFFSETFROM:+0100
TZOFFSETTO:+0200
DTSTART:19810329T030000
RRULE:FREQ=YEARLY;INTERVAL=1;BYMONTH=3;BYDAY=-1SU
END:DAYLIGHT
BEGIN:STANDARD
TZNAME:CET
TZOFFSETFROM:+0200
TZOFFSETTO:+0100
DTSTART:19961027T030000
RRULE:FREQ=YEARLY;INTERVAL=1;BYMONTH=10;BYDAY=-1SU
END:STANDARD
END:VTIMEZONE
BEGIN:VEVENT
UID:DSC-19996
DTSTART;TZID=Europe/Berlin:20230724T090000
SEQUENCE:1690263422
TRANSP:OPAQUE
DTEND;TZID=Europe/Berlin:20230724T100000
URL:https://dresden-science-calendar.org/calendar/en/detail/19996
LOCATION:MPI-CBG\, Pfotenhauerstraße 10801307 Dresden
SUMMARY:Modes: Physical Principles in Biology
CLASS:PUBLIC
DESCRIPTION:Speaker: Carl Modes\nInstitute of Speaker: MPI-CBG / CSBD\nTopi
 cs:\n\n Location:\n  Name: MPI-CBG (MPI-CBG Auditorium)\n  Street: Pfotenh
 auerstraße 108\n  City: 01307 Dresden\n  Phone: +49 351 210-0\n  Fax: +49
  351 210-2000\nDescription: 
DTSTAMP:20260419T235956Z
CREATED:20230707T054038Z
LAST-MODIFIED:20230725T053702Z
END:VEVENT
END:VCALENDAR