BEGIN:VCALENDAR
VERSION:2.0
PRODID:www.dresden-science-calendar.de
METHOD:PUBLISH
CALSCALE:GREGORIAN
X-MICROSOFT-CALSCALE:GREGORIAN
X-WR-TIMEZONE:Europe/Berlin
BEGIN:VTIMEZONE
TZID:Europe/Berlin
X-LIC-LOCATION:Europe/Berlin
BEGIN:DAYLIGHT
TZNAME:CEST
TZOFFSETFROM:+0100
TZOFFSETTO:+0200
DTSTART:19810329T030000
RRULE:FREQ=YEARLY;INTERVAL=1;BYMONTH=3;BYDAY=-1SU
END:DAYLIGHT
BEGIN:STANDARD
TZNAME:CET
TZOFFSETFROM:+0200
TZOFFSETTO:+0100
DTSTART:19961027T030000
RRULE:FREQ=YEARLY;INTERVAL=1;BYMONTH=10;BYDAY=-1SU
END:STANDARD
END:VTIMEZONE
BEGIN:VEVENT
UID:DSC-20056
DTSTART;TZID=Europe/Berlin:20230817T150000
SEQUENCE:1691671298
TRANSP:OPAQUE
DTEND;TZID=Europe/Berlin:20230817T170000
URL:https://dresden-science-calendar.org/calendar/en/detail/20056
LOCATION:TUD\,    
SUMMARY:Keynote: Clinical Research Learning - a Global Perspective
CLASS:PUBLIC
DESCRIPTION:Speaker: Keynote: Prof. (MEd\, MPH\, MMSc\, MD\, PhD) Felipe Fr
 egni\nInstitute of Speaker: Harvard T.H. Chan School of Public Health\, Ha
 rvard Medical School\, Boston\, MA.\nTopics:\n\n Location:\n  Name: TUD (D
 ekanat Medizinische Fakultät der TU Dresden\, Haus 40\, Fiedlerstraße 27
 \, 01307 Dresden)\n  Street:   \n  City:  \n  Phone: \n  Fax: \nDescriptio
 n: Carl Gustav Carus Symposium on the Future of Clinical Research Educatio
 n<br>    Programm<br>  Moderated by Prof. Dr. med. Timo Siepmann<br>    3:
 00 pm Opening Remarks<br>  Prof. Dr. med. Michael Albrecht\, Prof. Dr. med
 . Dr. Esther Troost<br>    3:20 pm Clinical Research Learning – a Global
  Perspective<br>  Felipe Fregni\, MEd\, MPH\, MMSc\, MD\, PhD\, Boston<br>
     3:50 pm Role of Clinical Research Education in the Surgical Discipline
 s<br>  PD Dr. med. Carina Riediger\, Dresden<br>    4:00 pm Clinical Resea
 rch Learning in Anesthesiology and Intensive Care Disciplines<br>  Prof. D
 r. med. Peter Spieth\, Dresden<br>    4:10 pm Clinical Research Learning a
 nd Pediatrics<br>  Dr. med. Tina Mery\, Chemnitz<br>    4:20 pm – 5:00 p
 m |Panel Discussion<br>  Prof. Dr. med. Timo Siepmann (Host)<br>  
DTSTAMP:20260420T110442Z
CREATED:20230810T095430Z
LAST-MODIFIED:20230810T124138Z
END:VEVENT
END:VCALENDAR