BEGIN:VCALENDAR
VERSION:2.0
PRODID:www.dresden-science-calendar.de
METHOD:PUBLISH
CALSCALE:GREGORIAN
X-MICROSOFT-CALSCALE:GREGORIAN
X-WR-TIMEZONE:Europe/Berlin
BEGIN:VTIMEZONE
TZID:Europe/Berlin
X-LIC-LOCATION:Europe/Berlin
BEGIN:DAYLIGHT
TZNAME:CEST
TZOFFSETFROM:+0100
TZOFFSETTO:+0200
DTSTART:19810329T030000
RRULE:FREQ=YEARLY;INTERVAL=1;BYMONTH=3;BYDAY=-1SU
END:DAYLIGHT
BEGIN:STANDARD
TZNAME:CET
TZOFFSETFROM:+0200
TZOFFSETTO:+0100
DTSTART:19961027T030000
RRULE:FREQ=YEARLY;INTERVAL=1;BYMONTH=10;BYDAY=-1SU
END:STANDARD
END:VTIMEZONE
BEGIN:VEVENT
UID:DSC-20180
DTSTART;TZID=Europe/Berlin:20230929T190000
SEQUENCE:1695965975
TRANSP:OPAQUE
DTEND;TZID=Europe/Berlin:20230929T235900
URL:https://dresden-science-calendar.org/calendar/en/detail/20180
LOCATION:Andere\,   
SUMMARY:Finissage mit Künstlerinnengespräch: Tatjana Doll – TOUR-ISMUS
CLASS:PUBLIC
DESCRIPTION:Speaker: \nInstitute of Speaker: \nTopics:\nBauing.\, Architekt
 ur\, Gesellschaft\, Philos.\, Erzieh.\, Umwelt\n Location:\n  Name: Andere
  ()\n  Street:  \n  City:  \n  Phone: \n  Fax: \nDescription: <p>Eine Auss
 tellung der TU Dresden\, Professur für Siedlungsentwicklung und des Leibn
 iz-Instituts für ökologische Raumentwicklung.</p>  <p>Die vielfach ausge
 zeichnete Berliner Künstlerin Tatjana Doll verwandelt mit ihren großform
 atigen\, dem städtischen Kontext und der urbanen Alltagswelt entlehnten B
 ildmotiven das Zentrum für Baukultur in der Cross-Over Reihe ‚Kunst und
  Architektur‘ erneut in eine Galerie. Ein wichtiger Aspekt im Werk Tatja
 na Dolls liegt in der Erforschung der sozio-politischen Kontexte von Bildg
 egenständen. Ihre Bildsprache greift Gegenstände des Öffentlichen auf u
 nd stellt die Frage\, wie viel Platz wir eigentlich bereit sind\, diesen D
 ingen einzuräumen. Stadtpläne\, Luftaufnahmen\, Grundrisse\, Container\,
  Tankstellenschilder\, Autos\, häufig in einem der Realität entsprechend
 en Maßstab im wahrsten Sinne des Wortes ins Bild gefasst\, zeigen die gan
 ze Fülle auf\, die diese teilweise profanen Dinge in unserem Alltagsleben
  im städtischen Raum einnehmen. Die Ausstellung soll diese Rolle im Werk 
 Tatjana Dolls explizit betonen und die besondere Facette des Städtischen\
 , des Maßstabs und des Raumgreifenden unterstreichen.</p>
DTSTAMP:20260421T125320Z
CREATED:20230927T054208Z
LAST-MODIFIED:20230929T053935Z
END:VEVENT
END:VCALENDAR