BEGIN:VCALENDAR
VERSION:2.0
PRODID:www.dresden-science-calendar.de
METHOD:PUBLISH
CALSCALE:GREGORIAN
X-MICROSOFT-CALSCALE:GREGORIAN
X-WR-TIMEZONE:Europe/Berlin
BEGIN:VTIMEZONE
TZID:Europe/Berlin
X-LIC-LOCATION:Europe/Berlin
BEGIN:DAYLIGHT
TZNAME:CEST
TZOFFSETFROM:+0100
TZOFFSETTO:+0200
DTSTART:19810329T030000
RRULE:FREQ=YEARLY;INTERVAL=1;BYMONTH=3;BYDAY=-1SU
END:DAYLIGHT
BEGIN:STANDARD
TZNAME:CET
TZOFFSETFROM:+0200
TZOFFSETTO:+0100
DTSTART:19961027T030000
RRULE:FREQ=YEARLY;INTERVAL=1;BYMONTH=10;BYDAY=-1SU
END:STANDARD
END:VTIMEZONE
BEGIN:VEVENT
UID:DSC-20533
DTSTART;TZID=Europe/Berlin:20240424T130000
SEQUENCE:1707912379
TRANSP:OPAQUE
DTEND;TZID=Europe/Berlin:20240424T140000
URL:https://dresden-science-calendar.org/calendar/en/detail/20533
LOCATION:SLUB\, Zellescher Weg 1801069 Dresden
SUMMARY:Menükarte des Monats
CLASS:PUBLIC
DESCRIPTION:Speaker: \nInstitute of Speaker: \nTopics:\n\n Location:\n  Nam
 e: SLUB (FoodStudio)\n  Street: Zellescher Weg 18\n  City: 01069 Dresden\n
   Phone: \n  Fax: \nDescription: Zum zweiten Mal präsentieren wir zur Mit
 tagszeit eine kunstvoll gestaltete Menükarte aus der Sammlung des Deutsch
 en Archivs der Kulinarik und erzählen die spannende Geschichte\, die sich
  dahinter verbirgt.
DTSTAMP:20260422T150539Z
CREATED:20240214T120619Z
LAST-MODIFIED:20240214T120619Z
END:VEVENT
END:VCALENDAR