BEGIN:VCALENDAR
VERSION:2.0
PRODID:www.dresden-science-calendar.de
METHOD:PUBLISH
CALSCALE:GREGORIAN
X-MICROSOFT-CALSCALE:GREGORIAN
X-WR-TIMEZONE:Europe/Berlin
BEGIN:VTIMEZONE
TZID:Europe/Berlin
X-LIC-LOCATION:Europe/Berlin
BEGIN:DAYLIGHT
TZNAME:CEST
TZOFFSETFROM:+0100
TZOFFSETTO:+0200
DTSTART:19810329T030000
RRULE:FREQ=YEARLY;INTERVAL=1;BYMONTH=3;BYDAY=-1SU
END:DAYLIGHT
BEGIN:STANDARD
TZNAME:CET
TZOFFSETFROM:+0200
TZOFFSETTO:+0100
DTSTART:19961027T030000
RRULE:FREQ=YEARLY;INTERVAL=1;BYMONTH=10;BYDAY=-1SU
END:STANDARD
END:VTIMEZONE
BEGIN:VEVENT
UID:DSC-20798
DTSTART;TZID=Europe/Berlin:20240416T183000
SEQUENCE:1713245815
TRANSP:OPAQUE
DTEND;TZID=Europe/Berlin:20240416T200000
URL:https://dresden-science-calendar.org/calendar/en/detail/20798
LOCATION:TUD Görges-Bau\, Helmholtzstraße 901087 Dresden
SUMMARY:Work in progress - Überlegungen zum Wandel von Arbeit
CLASS:PUBLIC
DESCRIPTION:Speaker: \nInstitute of Speaker: \nTopics:\nGesellschaft\, Phil
 os.\, Erzieh.\, Weiterbildung\n Location:\n  Name: TUD Görges-Bau ()\n  S
 treet: Helmholtzstraße 9\n  City: 01087 Dresden\n  Phone: \n  Fax: \nDesc
 ription: <p><strong>Zum Wandel von Arbeit </strong></p>  <p><strong>Auftak
 tveranstaltung der Ringvorlesung \"Work in progress - Überlegungen zum Wa
 ndel von Arbeit\"</strong></p>  <p>Fragen nach den Auswirkungen digitaler 
 Technologien auf Arbeitspraxis und Beschäftigte werden aktuell viel disku
 tiert. Weniger Beachtung findet die Frage\, wie sich das Verständnis von 
 Arbeit selbst angesichts des Aufkommens neuer Berufsformen und Arbeitsstru
 kturen verändert. Der Input soll daher einführend dazu anregen tiefergeh
 end über den Begriff Arbeit nachzudenken.</p>  <p>-----------------------
 --------------------------------------------------------------------------
 -------------------------------</p>  <p>Information zur Ringvorlesung</p> 
  <p>Der gegenwärtige Wandel der Arbeitswelt ist geprägt von einer tiefgr
 eifenden Transformation von Arbeitsprozessen.<br /> Diese Entwicklung besi
 tzt das Potenzial\, sowohl Chancen als auch Herausforderungen für Arbeitn
 ehmerInnen und ArbeitgeberInnen zu schaffen.<br /> Während einige traditi
 onelle Berufe möglicherweise obsolet werden\, eröffnen sich gleichzeitig
  neue Tätigkeitsfelder.<br /> In unserer Ringvorlesung werden entsprechen
 de Thesen und Konzepte über den Wandel von Arbeit genauer beleuchtet und 
 die Auswirkungen des Wandels auf die Zukunft der Arbeit diskutiert.<br /> 
 Im Rahmen der Ringvorlesung besteht die Möglichkeit\, sich mit Experten a
 us verschiedenen Fachbereichen auszutauschen und aktuelle Einblicke in sic
 h verändernde Arbeitslandschaft zu erhalten.</p>  <p>Die Ringvorlesung wi
 rd in Kooperation zwischen der IG Metall Sachsen und Integrale - Institut 
 für studium generale der TUD durchgeführt.</p>  <ul>  <li><strong>Start:
    </strong>16.04.2024</li>  <li><strong>Wann:</strong>  wöchentlich d
 ienstags von 18.30 bis 20 Uhr</li>  <li><strong>Wo:       </strong>GÖ
 R/127</li>  <li><strong>Wie:      </strong>in Präsenz</li> </ul>
DTSTAMP:20260421T130111Z
CREATED:20240416T053655Z
LAST-MODIFIED:20240416T053655Z
END:VEVENT
END:VCALENDAR