BEGIN:VCALENDAR
VERSION:2.0
PRODID:www.dresden-science-calendar.de
METHOD:PUBLISH
CALSCALE:GREGORIAN
X-MICROSOFT-CALSCALE:GREGORIAN
X-WR-TIMEZONE:Europe/Berlin
BEGIN:VTIMEZONE
TZID:Europe/Berlin
X-LIC-LOCATION:Europe/Berlin
BEGIN:DAYLIGHT
TZNAME:CEST
TZOFFSETFROM:+0100
TZOFFSETTO:+0200
DTSTART:19810329T030000
RRULE:FREQ=YEARLY;INTERVAL=1;BYMONTH=3;BYDAY=-1SU
END:DAYLIGHT
BEGIN:STANDARD
TZNAME:CET
TZOFFSETFROM:+0200
TZOFFSETTO:+0100
DTSTART:19961027T030000
RRULE:FREQ=YEARLY;INTERVAL=1;BYMONTH=10;BYDAY=-1SU
END:STANDARD
END:VTIMEZONE
BEGIN:VEVENT
UID:DSC-21214
DTSTART;VALUE=DATE:20241030
SEQUENCE:1730270383
TRANSP:OPAQUE
DTEND;VALUE=DATE:20241101
URL:https://dresden-science-calendar.org/calendar/en/detail/21214
LOCATION:TUD\,    
SUMMARY:LifeTechLab: Application Deadline
CLASS:PUBLIC
DESCRIPTION:Speaker: \nInstitute of Speaker: \nTopics:\nAusgründung/Transf
 er\, Biologie\, Chemie\, Medizin\, Willkommen\nTime:\n12:00 AM-11:59 PM\n\
 n Location:\n  Name: TUD ()\n  Street:   \n  City:  \n  Phone: \n  Fax: \n
 Description: <p><strong>Starting up in life sciences with LifeTechLab by T
 UD|excite</strong></p> <p>With the start-up incubation program LifeTechLab
  students and scientists get the opportunity to turn their life-science di
 scovery or business idea into a solid business model.</p> <p>In addition t
 o general challenges that every start-up faces such as limited resources a
 nd many decisions\, the field of life sciences requires unique market and 
 income-cost considerations as well as a clear understanding of intellectua
 l property (IP) rights and regulations.</p> <p>Interested? Apply by Octobe
 r 31\, 2024. (https://www.dresden-exists.de/beratung/lifetechlab/)</p> <p>
 Don't worry if your idea is vague. Converting it into a business model is 
 the purpose of LifeTechLab.</p> <p>The program is offered by TUD|excite as
  part of the Startup Service dresden|exists and is open to members of all 
 participating institutions.</p>
X-MICROSOFT-CDO-ALLDAYEVENT:TRUE
DTSTAMP:20260420T204556Z
CREATED:20240801T053938Z
LAST-MODIFIED:20241030T063943Z
END:VEVENT
END:VCALENDAR