BEGIN:VCALENDAR
VERSION:2.0
PRODID:www.dresden-science-calendar.de
METHOD:PUBLISH
CALSCALE:GREGORIAN
X-MICROSOFT-CALSCALE:GREGORIAN
X-WR-TIMEZONE:Europe/Berlin
BEGIN:VTIMEZONE
TZID:Europe/Berlin
X-LIC-LOCATION:Europe/Berlin
BEGIN:DAYLIGHT
TZNAME:CEST
TZOFFSETFROM:+0100
TZOFFSETTO:+0200
DTSTART:19810329T030000
RRULE:FREQ=YEARLY;INTERVAL=1;BYMONTH=3;BYDAY=-1SU
END:DAYLIGHT
BEGIN:STANDARD
TZNAME:CET
TZOFFSETFROM:+0200
TZOFFSETTO:+0100
DTSTART:19961027T030000
RRULE:FREQ=YEARLY;INTERVAL=1;BYMONTH=10;BYDAY=-1SU
END:STANDARD
END:VTIMEZONE
BEGIN:VEVENT
UID:DSC-21393
DTSTART;TZID=Europe/Berlin:20241026T110000
SEQUENCE:1729921131
TRANSP:OPAQUE
DTEND;TZID=Europe/Berlin:20241026T123000
URL:https://dresden-science-calendar.org/calendar/en/detail/21393
LOCATION:TUD Andreas-Schubert-Bau\, Zellescher Weg 1901069 Dresden
SUMMARY:Kirschbaum: Plastizität des Gehirns und Technologien  für lebensl
 anges Lernen
CLASS:PUBLIC
DESCRIPTION:Speaker: Prof. Dr. Clemens Kirschbaum\nInstitute of Speaker: Fa
 kultät Psychologie\nTopics:\nPsychologie\n Location:\n  Name: TUD Andreas
 -Schubert-Bau (Hörsaal 28)\n  Street: Zellescher Weg 19\n  City: 01069 Dr
 esden\n  Phone: \n  Fax: \nDescription: <p>Die Fakultät Psychologie der T
 echnischen Universität Dresden lädt interessierte Schülerinnen und Sch
 üler der Klassen 10\, 11 und 12 aus Gymnasien in Dresden und Umgebung\, T
 eilnehmer an der „Bürger-Universität“ und der „Seniorenakademie“
  sowie alle an Psychologie Interessierten zu Vorträgen aus unterschiedlic
 hen Gebieten der Psychologie ein.<br> Die Veranstaltung bietet eine sehr g
 ute Möglichkeit\, einen Einblick in verschiedene Bereiche der Psychologie
  als naturwissenschaftliche Disziplin zu erhalten.</p> <p>\"Psychologie am
  Samstag\" findet in Präsenz statt\, eine Anmeldung  ist nicht erforderl
 ich.</p>
DTSTAMP:20260423T042150Z
CREATED:20241018T053910Z
LAST-MODIFIED:20241026T053851Z
END:VEVENT
END:VCALENDAR