BEGIN:VCALENDAR
VERSION:2.0
PRODID:www.dresden-science-calendar.de
METHOD:PUBLISH
CALSCALE:GREGORIAN
X-MICROSOFT-CALSCALE:GREGORIAN
X-WR-TIMEZONE:Europe/Berlin
BEGIN:VTIMEZONE
TZID:Europe/Berlin
X-LIC-LOCATION:Europe/Berlin
BEGIN:DAYLIGHT
TZNAME:CEST
TZOFFSETFROM:+0100
TZOFFSETTO:+0200
DTSTART:19810329T030000
RRULE:FREQ=YEARLY;INTERVAL=1;BYMONTH=3;BYDAY=-1SU
END:DAYLIGHT
BEGIN:STANDARD
TZNAME:CET
TZOFFSETFROM:+0200
TZOFFSETTO:+0100
DTSTART:19961027T030000
RRULE:FREQ=YEARLY;INTERVAL=1;BYMONTH=10;BYDAY=-1SU
END:STANDARD
END:VTIMEZONE
BEGIN:VEVENT
UID:DSC-22082
DTSTART;TZID=Europe/Berlin:20250709T143000
SEQUENCE:1752039530
TRANSP:OPAQUE
DTEND;TZID=Europe/Berlin:20250709T153000
URL:https://dresden-science-calendar.org/calendar/en/detail/22082
LOCATION:IFW\, Helmholtzstraße 2001069 Dresden
SUMMARY:Hofmann: In-operando electronic structure of quantum materials devi
 ces
CLASS:PUBLIC
DESCRIPTION:Speaker: Prof. Philip Hofmann\nInstitute of Speaker: Universit
 ät Aarhus\nTopics:\n\n Location:\n  Name: IFW (D2E.27\, IFW Dresden)\n  S
 treet: Helmholtzstraße 20\n  City: 01069 Dresden\n  Phone: \n  Fax: \nDes
 cription: 
DTSTAMP:20260420T224648Z
CREATED:20250621T053950Z
LAST-MODIFIED:20250709T053850Z
END:VEVENT
END:VCALENDAR