BEGIN:VCALENDAR
VERSION:2.0
PRODID:www.dresden-science-calendar.de
METHOD:PUBLISH
CALSCALE:GREGORIAN
X-MICROSOFT-CALSCALE:GREGORIAN
X-WR-TIMEZONE:Europe/Berlin
BEGIN:VTIMEZONE
TZID:Europe/Berlin
X-LIC-LOCATION:Europe/Berlin
BEGIN:DAYLIGHT
TZNAME:CEST
TZOFFSETFROM:+0100
TZOFFSETTO:+0200
DTSTART:19810329T030000
RRULE:FREQ=YEARLY;INTERVAL=1;BYMONTH=3;BYDAY=-1SU
END:DAYLIGHT
BEGIN:STANDARD
TZNAME:CET
TZOFFSETFROM:+0200
TZOFFSETTO:+0100
DTSTART:19961027T030000
RRULE:FREQ=YEARLY;INTERVAL=1;BYMONTH=10;BYDAY=-1SU
END:STANDARD
END:VTIMEZONE
BEGIN:VEVENT
UID:DSC-22088
DTSTART;TZID=Europe/Berlin:20250625T110000
SEQUENCE:1750829913
TRANSP:OPAQUE
DTEND;TZID=Europe/Berlin:20250625T123000
URL:https://dresden-science-calendar.org/calendar/en/detail/22088
LOCATION:MPI-PKS\, Nöthnitzer Straße 3801187 Dresden
SUMMARY:Hatano: How we came up with the Hatano-Nelson model
CLASS:PUBLIC
DESCRIPTION:Speaker: Naomichi Hatano\nInstitute of Speaker: The University 
 of Tokyo\, Japan\nTopics:\nPhysik\n Location:\n  Name: MPI-PKS ()\n  Stree
 t: Nöthnitzer Straße 38\n  City: 01187 Dresden\n  Phone: + 49 (0)351 871
  0\n  Fax: \nDescription: The purpose of this talk is to encourage postdoc
 s and graduate students by telling them my own experience as a postdoc. Wh
 en I was around 30 years old\, I spent one year as a postdoc in Harvard Un
 iversity and published a paper entitled “Localization transitions in non
 -Hermitian quantum mechanics” in 1996 with David R. Nelson. This is prob
 ably the first paper that has “non-Hermitian quantum mechanics” in the
  title. We proposed a model now called the Hatano-Nelson model. The paper 
 was not very popular for quite a long time but get many citations recently
  after the model was recognized as a minimal non-Hermitian topological mod
 el. I tell you how we came up with the Hatano-Nelson model then\, putting 
 emphasis on my thought as to what aspects of research activities are  crit
 ical to obtaining good output.
DTSTAMP:20260424T145500Z
CREATED:20250624T053745Z
LAST-MODIFIED:20250625T053833Z
END:VEVENT
END:VCALENDAR