BEGIN:VCALENDAR
VERSION:2.0
PRODID:www.dresden-science-calendar.de
METHOD:PUBLISH
CALSCALE:GREGORIAN
X-MICROSOFT-CALSCALE:GREGORIAN
X-WR-TIMEZONE:Europe/Berlin
BEGIN:VTIMEZONE
TZID:Europe/Berlin
X-LIC-LOCATION:Europe/Berlin
BEGIN:DAYLIGHT
TZNAME:CEST
TZOFFSETFROM:+0100
TZOFFSETTO:+0200
DTSTART:19810329T030000
RRULE:FREQ=YEARLY;INTERVAL=1;BYMONTH=3;BYDAY=-1SU
END:DAYLIGHT
BEGIN:STANDARD
TZNAME:CET
TZOFFSETFROM:+0200
TZOFFSETTO:+0100
DTSTART:19961027T030000
RRULE:FREQ=YEARLY;INTERVAL=1;BYMONTH=10;BYDAY=-1SU
END:STANDARD
END:VTIMEZONE
BEGIN:VEVENT
UID:DSC-22551
DTSTART;TZID=Europe/Berlin:20260203T190000
SEQUENCE:1767692247
TRANSP:OPAQUE
DTEND;TZID=Europe/Berlin:20260203T210000
URL:https://dresden-science-calendar.org/calendar/en/detail/22551
LOCATION:SLUB\, Zellescher Weg 1801069 Dresden
SUMMARY:Ausstellungseröffnung: Kein Freischütz für Dresden.
CLASS:PUBLIC
DESCRIPTION:Speaker: \nInstitute of Speaker: \nTopics:\nWillkommen\n Locati
 on:\n  Name: SLUB ()\n  Street: Zellescher Weg 18\n  City: 01069 Dresden\n
   Phone: \n  Fax: \nDescription: Carl Maria von Weber und die deutsche Ope
 r    Die SLUB feiert Carl Maria von Weber! Anlässlich des Jubiläumsjahre
 s zum 200. Todestag eröffnet die Ausstellung \"Kein Freischütz für Dres
 den\". Wir laden ein zu einer Stunde mit Musik und einem Festvortrag von P
 rof. Dr. Manuel Gervink\, dem ersten Vorsitzenden der Carl Maria von Weber
 -Gesellschaft. Anschließend besteht die Möglichkeit zu Gesprächen bei e
 inem Glas Wein – und natürlich zum Besuch der Ausstellung.
DTSTAMP:20260423T022120Z
CREATED:20260106T091939Z
LAST-MODIFIED:20260106T093727Z
END:VEVENT
END:VCALENDAR