BEGIN:VCALENDAR
VERSION:2.0
PRODID:www.dresden-science-calendar.de
METHOD:PUBLISH
CALSCALE:GREGORIAN
X-MICROSOFT-CALSCALE:GREGORIAN
X-WR-TIMEZONE:Europe/Berlin
BEGIN:VTIMEZONE
TZID:Europe/Berlin
X-LIC-LOCATION:Europe/Berlin
BEGIN:DAYLIGHT
TZNAME:CEST
TZOFFSETFROM:+0100
TZOFFSETTO:+0200
DTSTART:19810329T030000
RRULE:FREQ=YEARLY;INTERVAL=1;BYMONTH=3;BYDAY=-1SU
END:DAYLIGHT
BEGIN:STANDARD
TZNAME:CET
TZOFFSETFROM:+0200
TZOFFSETTO:+0100
DTSTART:19961027T030000
RRULE:FREQ=YEARLY;INTERVAL=1;BYMONTH=10;BYDAY=-1SU
END:STANDARD
END:VTIMEZONE
BEGIN:VEVENT
UID:DSC-22623
DTSTART;TZID=Europe/Berlin:20260203T145000
SEQUENCE:1770100609
TRANSP:OPAQUE
DTEND;TZID=Europe/Berlin:20260203T170000
URL:https://dresden-science-calendar.org/calendar/en/detail/22623
LOCATION:TUD\,    
SUMMARY:Special Physics Colloquium on the occasion of the 65th birthday of 
 Karl Leo / Prof. Malte Gather: Organic Optoelectronics
CLASS:PUBLIC
DESCRIPTION:Speaker: \nInstitute of Speaker: \nTopics:\nWillkommen\n Locati
 on:\n  Name: TUD ()\n  Street:   \n  City:  \n  Phone: \n  Fax: \nDescript
 ion: <p>Event announcement as pdf-Download (https://tu-dresden.de/mn/phys
 ik/ressourcen/dateien/physikalisches-kolloquium/2026-02-03-Phys_Kolloq-Spe
 cial-Colloquium-KLeo-WiSe2025-Gather.pdf).</p> <p><strong>Organic Optoelec
 tronics: From Curiosity to Multi-billion Dollar Industry and A Few Ideas 
 for What’s Next</strong></p> <p><strong>Short bio</strong>: Prof. Dr. Ma
 lte C. Gather is Humboldt Professor and founding director of the Centre fo
 r Nano- and Biophotonics at University of Cologne and holds a co-appointme
 nt at University of St Andrews. His research interests are at the interfac
 e of organic electronics and biophotonics\, with particular focus on OLED 
 optics\, strong light-matter coupling\, implantable OLEDs and organic lase
 rs. He studied physics and material sciences at RWTH Aachen University and
  Imperial College London and received his PhD from University of Cologne i
 n 2008. He previously worked at University of Iceland\, Harvard University
 \, and TU Dresden.</p>
DTSTAMP:20260420T073452Z
CREATED:20260124T063614Z
LAST-MODIFIED:20260203T063649Z
END:VEVENT
END:VCALENDAR