BEGIN:VCALENDAR
VERSION:2.0
PRODID:www.dresden-science-calendar.de
METHOD:PUBLISH
CALSCALE:GREGORIAN
X-MICROSOFT-CALSCALE:GREGORIAN
X-WR-TIMEZONE:Europe/Berlin
BEGIN:VTIMEZONE
TZID:Europe/Berlin
X-LIC-LOCATION:Europe/Berlin
BEGIN:DAYLIGHT
TZNAME:CEST
TZOFFSETFROM:+0100
TZOFFSETTO:+0200
DTSTART:19810329T030000
RRULE:FREQ=YEARLY;INTERVAL=1;BYMONTH=3;BYDAY=-1SU
END:DAYLIGHT
BEGIN:STANDARD
TZNAME:CET
TZOFFSETFROM:+0200
TZOFFSETTO:+0100
DTSTART:19961027T030000
RRULE:FREQ=YEARLY;INTERVAL=1;BYMONTH=10;BYDAY=-1SU
END:STANDARD
END:VTIMEZONE
BEGIN:VEVENT
UID:DSC-22707
DTSTART;TZID=Europe/Berlin:20260309T200000
SEQUENCE:1773038385
TRANSP:OPAQUE
DTEND;TZID=Europe/Berlin:20260309T210000
URL:https://dresden-science-calendar.org/calendar/en/detail/22707
LOCATION:TUD Hörsaalzentrum\, Bergstraße 6401069 Dresden
SUMMARY:Einstein Slam „Physics in 10 minutes“
CLASS:PUBLIC
DESCRIPTION:Speaker: \nInstitute of Speaker: \nTopics:\nPhysik\n Location:\
 n  Name: TUD Hörsaalzentrum ()\n  Street: Bergstraße 64\n  City: 01069 D
 resden\n  Phone: +49 351 463-34457\n  Fax: +49 351 463-32883\nDescription:
  <p>Wissenschaftlerinnen und Wissenschaftler bringen ihre Forschung auf di
 e Bühne. In unterhaltenden Slams präsentieren Verena Brehm (TU Eindhoven
 )\, Eloise Lardet (Imperial College London)\, Kuan Meng (Universität Stut
 tgart) und Manuel Zahn (Universität Augsburg)\, woran sie täglich forsch
 en – verständlich und kurz. Zuhörende können sich auf Slams zu Magnet
 ismus\, kollektivem Verhalten aktiver Materie\, Atomproben-Tomographie\, R
 asterkraftmikroskopie oder zur Biomechanik beweglicher Gelenke in Pflanzen
  freuen.</p> <p>Der Eintritt ist frei.</p>
DTSTAMP:20260425T145115Z
CREATED:20260225T063659Z
LAST-MODIFIED:20260309T063945Z
END:VEVENT
END:VCALENDAR